BEGIN:VCALENDAR
VERSION:2.0
PRODID:-//The Community Voice - ECPv6.15.20//NONSGML v1.0//EN
CALSCALE:GREGORIAN
METHOD:PUBLISH
X-ORIGINAL-URL:https://www.communityvoiceks.com
X-WR-CALDESC:Events for The Community Voice
REFRESH-INTERVAL;VALUE=DURATION:PT1H
X-Robots-Tag:noindex
X-PUBLISHED-TTL:PT1H
BEGIN:VTIMEZONE
TZID:America/Chicago
BEGIN:DAYLIGHT
TZOFFSETFROM:-0600
TZOFFSETTO:-0500
TZNAME:CDT
DTSTART:20250309T080000
END:DAYLIGHT
BEGIN:STANDARD
TZOFFSETFROM:-0500
TZOFFSETTO:-0600
TZNAME:CST
DTSTART:20251102T070000
END:STANDARD
BEGIN:DAYLIGHT
TZOFFSETFROM:-0600
TZOFFSETTO:-0500
TZNAME:CDT
DTSTART:20260308T080000
END:DAYLIGHT
BEGIN:STANDARD
TZOFFSETFROM:-0500
TZOFFSETTO:-0600
TZNAME:CST
DTSTART:20261101T070000
END:STANDARD
BEGIN:DAYLIGHT
TZOFFSETFROM:-0600
TZOFFSETTO:-0500
TZNAME:CDT
DTSTART:20270314T080000
END:DAYLIGHT
BEGIN:STANDARD
TZOFFSETFROM:-0500
TZOFFSETTO:-0600
TZNAME:CST
DTSTART:20271107T070000
END:STANDARD
END:VTIMEZONE
BEGIN:VEVENT
DTSTART;TZID=America/Chicago:20260320T110000
DTEND;TZID=America/Chicago:20260320T180000
DTSTAMP:20260424T161603
CREATED:20260226T210324Z
LAST-MODIFIED:20260226T210327Z
UID:10003350-1774004400-1774029600@www.communityvoiceks.com
SUMMARY:Hollywood in Your Hands: Mobile Filmaking with WeHarmon SistersnSisters
DESCRIPTION:Whether you’re creating content for social media\, building your brand\, or capturing everyday moments\, your phone is already a powerful storytelling tool. In this hands-on\, interactive class\, award-winning videographers Sara and Charity Harmon will show you how to shoot and edit cinematic videos using simple techniques and minimal gear. \n\n\n\nAbout our co-teachers: \n\n\n\nWeHarmonSister\, Award-winning filmmakers and podcasters \n\n\n\nSara and Charity Harmon—known as the WeHarmonSisters—are Wichita-based filmmakers celebrated for their award-winning documentaries exploring local history. Their films include For Your Amusement\, Who Scammed Rajah Rabbit?\, and their latest project\, Let’s Talk Shop\, a deep dive into Wichita’s iconic department stores. \n\n\n\n\n\n\n\n\n\n\n\n\n\n\n\n\n\n\n\n\n	More from the VOICE
URL:https://www.communityvoiceks.com/event/hollywood-in-your-hands-mobile-filmaking-with-weharmon-sistersnsisters/
LOCATION:Marina Point Office Park\, 1999 N. Amidon\, Room 242\, Wichita\, KS\, 67202\, United States
CATEGORIES:Business & Finance,movies & Speeches,Performance & Visual Arts
ATTACH;FMTTYPE=image/jpeg:https://www.communityvoiceks.com/wp-content/uploads/2026/02/Harmon.jpg
END:VEVENT
END:VCALENDAR