BEGIN:VCALENDAR
VERSION:2.0
PRODID:-//The Community Voice - ECPv6.15.20//NONSGML v1.0//EN
CALSCALE:GREGORIAN
METHOD:PUBLISH
X-WR-CALNAME:The Community Voice
X-ORIGINAL-URL:https://www.communityvoiceks.com
X-WR-CALDESC:Events for The Community Voice
REFRESH-INTERVAL;VALUE=DURATION:PT1H
X-Robots-Tag:noindex
X-PUBLISHED-TTL:PT1H
BEGIN:VTIMEZONE
TZID:America/Chicago
BEGIN:DAYLIGHT
TZOFFSETFROM:-0600
TZOFFSETTO:-0500
TZNAME:CDT
DTSTART:20250309T080000
END:DAYLIGHT
BEGIN:STANDARD
TZOFFSETFROM:-0500
TZOFFSETTO:-0600
TZNAME:CST
DTSTART:20251102T070000
END:STANDARD
BEGIN:DAYLIGHT
TZOFFSETFROM:-0600
TZOFFSETTO:-0500
TZNAME:CDT
DTSTART:20260308T080000
END:DAYLIGHT
BEGIN:STANDARD
TZOFFSETFROM:-0500
TZOFFSETTO:-0600
TZNAME:CST
DTSTART:20261101T070000
END:STANDARD
BEGIN:DAYLIGHT
TZOFFSETFROM:-0600
TZOFFSETTO:-0500
TZNAME:CDT
DTSTART:20270314T080000
END:DAYLIGHT
BEGIN:STANDARD
TZOFFSETFROM:-0500
TZOFFSETTO:-0600
TZNAME:CST
DTSTART:20271107T070000
END:STANDARD
END:VTIMEZONE
BEGIN:VEVENT
DTSTART;TZID=America/Chicago:20260328T130000
DTEND;TZID=America/Chicago:20260328T150000
DTSTAMP:20260422T025732
CREATED:20260304T191224Z
LAST-MODIFIED:20260318T191421Z
UID:10003376-1774702800-1774710000@www.communityvoiceks.com
SUMMARY:Youth Vision & Wellness Workshop: Creative Expression for Mental Health & H
DESCRIPTION:Join our in-person Youth Vision & Wellness Workshop to boost mental health through creative vibes and self-expression!\n\n\nYouth Vision & Wellness Workshop: Creative Expression for Mental Health & Healthy Choices \nHosted by Blaque Coffee Cares Foundation \nThe Youth Vision & Wellness Workshop is a three-hour\, interactive experience designed to support youth mental wellness\, emotional expression\, and healthy decision-making through creativity and guided discussion. \nThis workshop creates a safe\, supportive space where youth can explore their thoughts\, emotions\, and goals while learning positive coping strategies and healthy life choices. Through creative expression and facilitated conversations\, participants are encouraged to reflect\, connect\, and grow. \nWhat Youth Will Experience \n\nCreative expression activities (including guided vision board mapping)\nOpportunities for reflection and self-awareness\nAge-appropriate mental wellness discussions\nEncouragement around healthy choices and positive decision-making\nSupportive guidance from experienced facilitators\nNo artistic experience is required. All materials are provided.\n\n\n\n\n\n	More from the VOICE
URL:https://www.communityvoiceks.com/event/youth-vision-wellness-workshop-creative-expression-for-mental-health-h/
LOCATION:Johnson County Library – Merriam Plaza\, 6120 Slater Street\, Merriam\, KS\, 66202\, United States
ATTACH;FMTTYPE=image/jpeg:https://www.communityvoiceks.com/wp-content/uploads/2026/03/b7d64e67d522100edc3b5d3b4e314a95.jpg
END:VEVENT
END:VCALENDAR