BEGIN:VCALENDAR
VERSION:2.0
PRODID:-//The Community Voice - ECPv6.15.20//NONSGML v1.0//EN
CALSCALE:GREGORIAN
METHOD:PUBLISH
X-ORIGINAL-URL:https://www.communityvoiceks.com
X-WR-CALDESC:Events for The Community Voice
REFRESH-INTERVAL;VALUE=DURATION:PT1H
X-Robots-Tag:noindex
X-PUBLISHED-TTL:PT1H
BEGIN:VTIMEZONE
TZID:America/Chicago
BEGIN:DAYLIGHT
TZOFFSETFROM:-0600
TZOFFSETTO:-0500
TZNAME:CDT
DTSTART:20250309T080000
END:DAYLIGHT
BEGIN:STANDARD
TZOFFSETFROM:-0500
TZOFFSETTO:-0600
TZNAME:CST
DTSTART:20251102T070000
END:STANDARD
BEGIN:DAYLIGHT
TZOFFSETFROM:-0600
TZOFFSETTO:-0500
TZNAME:CDT
DTSTART:20260308T080000
END:DAYLIGHT
BEGIN:STANDARD
TZOFFSETFROM:-0500
TZOFFSETTO:-0600
TZNAME:CST
DTSTART:20261101T070000
END:STANDARD
BEGIN:DAYLIGHT
TZOFFSETFROM:-0600
TZOFFSETTO:-0500
TZNAME:CDT
DTSTART:20270314T080000
END:DAYLIGHT
BEGIN:STANDARD
TZOFFSETFROM:-0500
TZOFFSETTO:-0600
TZNAME:CST
DTSTART:20271107T070000
END:STANDARD
END:VTIMEZONE
BEGIN:VEVENT
DTSTART;TZID=America/Chicago:20260315T160000
DTEND;TZID=America/Chicago:20260315T210000
DTSTAMP:20260421T143103
CREATED:20260304T192420Z
LAST-MODIFIED:20260304T192420Z
UID:10003380-1773590400-1773608400@www.communityvoiceks.com
SUMMARY:R&B at Night- Wichita
DESCRIPTION:Wichita lets Line Dance\, Slow Dance\, Twerk a lil bit at R&B at Night\n\n\n❤️🎶 WICHITA GET READY FOR THE BIGGEST R&B PARTY IN THE CITY🎶❤️  \n❤️✨️ R&B AT NIGHT ✨❤️  \n📅 Sunday\, March 15th ⏰ 4PM – 9PM  \n📍 Chicken N Pickle- In The Be Amazing Room (located inside) 1240 N Greenwich Rd\, Wichita\, KS  \n🎟️ Advance Tickets Available Now:  \n👉🏾 RNBatNightWichita.Eventbrite.com  \n🥂 For VIP Sections & Tables: 📲 Text “WICHITA” to 913-526-0315  \n🎤 Hosted by Tez Carter  \n🎧 The Best R&B all night long  \n🕺🏾 Catch a vibe  \n🥂 Grab a drink or 2  \n🎶 Lets Sing at the top of our lungs  \n💃🏾 Expect a night that feels like your favorite r&b playlist brought to life where every record takes you somewhere between “Confessions” by Usher and “Pick Up Your Feelings” by Jazmine Sullivan to “Can We Talk” to “Love In this Club” Vibes. We’re setting the tone for singing out loud\, line dancing\, a lil bit of twerking\, and vibing all night at R&B At Night Wichita. 🎶✨  \n⚠️ Limited 1st come open seating available 21+ | Cashless Facility | No Smoking | No Vaping  \n#RNBatNight #WichitaEvents #WichitaNightlife #RNBVibes #GrownAndSexy \n\n\n\n\n\n\n\n\n\n\n\n\n	More from the VOICE
URL:https://www.communityvoiceks.com/event/rb-at-night-wichita/
LOCATION:Chicken N Pickle – Wichita\, 1240 North Greenwich Road\, Wichita\, KS\, 67206\, United States
ATTACH;FMTTYPE=image/jpeg:https://www.communityvoiceks.com/wp-content/uploads/2026/03/2b4481ceda87369e7ccaa490a77232ac.jpg
END:VEVENT
END:VCALENDAR