BEGIN:VCALENDAR
VERSION:2.0
PRODID:-//The Community Voice - ECPv6.15.20//NONSGML v1.0//EN
CALSCALE:GREGORIAN
METHOD:PUBLISH
X-WR-CALNAME:The Community Voice
X-ORIGINAL-URL:https://www.communityvoiceks.com
X-WR-CALDESC:Events for The Community Voice
REFRESH-INTERVAL;VALUE=DURATION:PT1H
X-Robots-Tag:noindex
X-PUBLISHED-TTL:PT1H
BEGIN:VTIMEZONE
TZID:America/Chicago
BEGIN:DAYLIGHT
TZOFFSETFROM:-0600
TZOFFSETTO:-0500
TZNAME:CDT
DTSTART:20250309T080000
END:DAYLIGHT
BEGIN:STANDARD
TZOFFSETFROM:-0500
TZOFFSETTO:-0600
TZNAME:CST
DTSTART:20251102T070000
END:STANDARD
BEGIN:DAYLIGHT
TZOFFSETFROM:-0600
TZOFFSETTO:-0500
TZNAME:CDT
DTSTART:20260308T080000
END:DAYLIGHT
BEGIN:STANDARD
TZOFFSETFROM:-0500
TZOFFSETTO:-0600
TZNAME:CST
DTSTART:20261101T070000
END:STANDARD
BEGIN:DAYLIGHT
TZOFFSETFROM:-0600
TZOFFSETTO:-0500
TZNAME:CDT
DTSTART:20270314T080000
END:DAYLIGHT
BEGIN:STANDARD
TZOFFSETFROM:-0500
TZOFFSETTO:-0600
TZNAME:CST
DTSTART:20271107T070000
END:STANDARD
END:VTIMEZONE
BEGIN:VEVENT
DTSTART;TZID=America/Chicago:20260529T080000
DTEND;TZID=America/Chicago:20260529T090000
DTSTAMP:20260422T200729
CREATED:20260420T182727Z
LAST-MODIFIED:20260420T182727Z
UID:10003471-1780041600-1780045200@www.communityvoiceks.com
SUMMARY:Admiral's Breakfast 2026
DESCRIPTION:Start your day right with great food and even better company at Admiral’s Breakfast 2026!\n\n\nAdmiral’s Breakfast 2026\nJoin us for the Admiral’s Breakfast 2026\, a fantastic in-person gathering where great food meets even better company. It’s the perfect chance to kickstart your day with delicious bites and friendly faces. Don’t miss out on this fun and casual morning event – come hungry and ready to mingle! \nPay ahead of time by following the ticketing insturctions or contact Karianne@wichitafestivals.com to RSVP. \n7:30am Check-In\, Breakfast 8am-9am. \n\n\n\n\n\n	More from the VOICE
URL:https://www.communityvoiceks.com/event/admirals-breakfast-2026/
LOCATION:400 W Waterman St\, 400 West Waterman Street\, Wichita\, KS\, 67202\, United States
ATTACH;FMTTYPE=image/jpeg:https://www.communityvoiceks.com/wp-content/uploads/2026/04/5934ade5607a77db416bda85cd8c8a89.jpg
END:VEVENT
END:VCALENDAR