BEGIN:VCALENDAR
VERSION:2.0
PRODID:-//The Community Voice - ECPv6.15.20//NONSGML v1.0//EN
CALSCALE:GREGORIAN
METHOD:PUBLISH
X-WR-CALNAME:The Community Voice
X-ORIGINAL-URL:https://www.communityvoiceks.com
X-WR-CALDESC:Events for The Community Voice
REFRESH-INTERVAL;VALUE=DURATION:PT1H
X-Robots-Tag:noindex
X-PUBLISHED-TTL:PT1H
BEGIN:VTIMEZONE
TZID:America/Chicago
BEGIN:DAYLIGHT
TZOFFSETFROM:-0600
TZOFFSETTO:-0500
TZNAME:CDT
DTSTART:20250309T080000
END:DAYLIGHT
BEGIN:STANDARD
TZOFFSETFROM:-0500
TZOFFSETTO:-0600
TZNAME:CST
DTSTART:20251102T070000
END:STANDARD
BEGIN:DAYLIGHT
TZOFFSETFROM:-0600
TZOFFSETTO:-0500
TZNAME:CDT
DTSTART:20260308T080000
END:DAYLIGHT
BEGIN:STANDARD
TZOFFSETFROM:-0500
TZOFFSETTO:-0600
TZNAME:CST
DTSTART:20261101T070000
END:STANDARD
BEGIN:DAYLIGHT
TZOFFSETFROM:-0600
TZOFFSETTO:-0500
TZNAME:CDT
DTSTART:20270314T080000
END:DAYLIGHT
BEGIN:STANDARD
TZOFFSETFROM:-0500
TZOFFSETTO:-0600
TZNAME:CST
DTSTART:20271107T070000
END:STANDARD
END:VTIMEZONE
BEGIN:VEVENT
DTSTART;TZID=America/Chicago:20260429T170000
DTEND;TZID=America/Chicago:20260429T200000
DTSTAMP:20260420T183210
CREATED:20260420T183559Z
LAST-MODIFIED:20260420T183559Z
UID:10003475-1777482000-1777492800@www.communityvoiceks.com
SUMMARY:2026 Pathway to Possibility - Celebrating 5 years of Financial Empowerment
DESCRIPTION:Celebrate 5 years of impact at Pathway to Possibility\, honoring partners\, supporters\, and the futures we’ve supported over the years.\n\n\nJoin Us in Celebrating Five Years of Impact\n \nFor five years\, Pathway Financial Education has been equipping business owners\, students\, and adults with the tools\, confidence\, and support to build lasting financial futures. \nWe invite our valued partners\, supporters\, and community leaders to celebrate this milestone at   Pathway to Possibility\, an evening dedicated to honoring the collective impact we have made together. \nEvening Highlights\nKeynote Address by Peter Mallouk\, President & CEO of Creative Planning \nAwards Presentation recognizing: \n\nCommunity partners who have served our participants\nSupporters who have invested in our mission\nParticipants whose success stories reflect the power of financial empowerment\n\nAbout the Event\nThis special anniversary celebration is more than a reflection on the past five years\, it is a recognition of the partnerships and shared commitment that have made financial empowerment accessible to so many. \nTogether\, we have engaged more than 8000 individuals through strengthening businesses\, increased self-sufficency in households\, and creating generational opportunity and access. This evening honors those who have helped make that vision a reality. \nWho Should Attend\n\nCommunity and corporate partners\nFinancial supporters and sponsors\nVolunteers and mentors\nProgram participants and alumni\nCommunity leaders and advocates\n\nReserve Your Seat\nTickets are complimentary\, but registration is required. \nWe look forward to celebrating five years of progress and the many possibilities still ahead. \nWhere to park\nThere is a parking lot located at the north end of the building along with street parking availale at the entrance doors. \nLight hors d’oeuvres and drinks will be served \n\n\n\n\n\n\n\n	More from the VOICE
URL:https://www.communityvoiceks.com/event/2026-pathway-to-possibility-celebrating-5-years-of-financial-empowerment/
LOCATION:1824 The Paseo\, 1824 The Paseo\, Kansas City\, MO\, 64108\, United States
ATTACH;FMTTYPE=image/jpeg:https://www.communityvoiceks.com/wp-content/uploads/2026/04/130993bc102f6851d3ef1e7db7d598d7.jpg
END:VEVENT
END:VCALENDAR