BEGIN:VCALENDAR
VERSION:2.0
PRODID:-//The Community Voice - ECPv6.15.20//NONSGML v1.0//EN
CALSCALE:GREGORIAN
METHOD:PUBLISH
X-WR-CALNAME:The Community Voice
X-ORIGINAL-URL:https://www.communityvoiceks.com
X-WR-CALDESC:Events for The Community Voice
REFRESH-INTERVAL;VALUE=DURATION:PT1H
X-Robots-Tag:noindex
X-PUBLISHED-TTL:PT1H
BEGIN:VTIMEZONE
TZID:America/Chicago
BEGIN:DAYLIGHT
TZOFFSETFROM:-0600
TZOFFSETTO:-0500
TZNAME:CDT
DTSTART:20250309T080000
END:DAYLIGHT
BEGIN:STANDARD
TZOFFSETFROM:-0500
TZOFFSETTO:-0600
TZNAME:CST
DTSTART:20251102T070000
END:STANDARD
BEGIN:DAYLIGHT
TZOFFSETFROM:-0600
TZOFFSETTO:-0500
TZNAME:CDT
DTSTART:20260308T080000
END:DAYLIGHT
BEGIN:STANDARD
TZOFFSETFROM:-0500
TZOFFSETTO:-0600
TZNAME:CST
DTSTART:20261101T070000
END:STANDARD
BEGIN:DAYLIGHT
TZOFFSETFROM:-0600
TZOFFSETTO:-0500
TZNAME:CDT
DTSTART:20270314T080000
END:DAYLIGHT
BEGIN:STANDARD
TZOFFSETFROM:-0500
TZOFFSETTO:-0600
TZNAME:CST
DTSTART:20271107T070000
END:STANDARD
END:VTIMEZONE
BEGIN:VEVENT
DTSTART;TZID=America/Chicago:20260331T130000
DTEND;TZID=America/Chicago:20260331T160000
DTSTAMP:20260425T225337
CREATED:20260304T191027Z
LAST-MODIFIED:20260304T191027Z
UID:10003375-1774962000-1774972800@www.communityvoiceks.com
SUMMARY:Job Seekers Registration: Job Fair at the Johnson County Library
DESCRIPTION:Join us on Tuesday March 31st 1pm-4pm for a free job fair at the Johnson County Central Resource Library hosted by Workforce Partnership!\n\n\nHere is the list of employers scheduled to attend so far: \n\nBeck & Pollitzer\nCity of Overland Park\nFirst Student\nIMKO Workforce Solutions\nInova Staffing\nJohnson County Parks & Recreation District\nKansas Department of Children and Families\nNorfolk Iron and Metal\nUnited States Postal Service\nUnified Government of Wyandotte County and Kansas City Kansas\nSanford Health\nTVH Parts\nVance Brothers\nWarehousemen Training\nWyandotte County Sherriff\n\n\n\n\n\n	More from the VOICE
URL:https://www.communityvoiceks.com/event/job-seekers-registration-job-fair-at-the-johnson-county-library/
LOCATION:Johnson County Library – Central Resource\, 9875 West 87th Street\, Overland Park\, KS\, 66212\, United States
ATTACH;FMTTYPE=image/jpeg:https://www.communityvoiceks.com/wp-content/uploads/2026/03/da6ea72a6792c1f3509c071ff92fdff6.jpg
END:VEVENT
END:VCALENDAR