BEGIN:VCALENDAR
VERSION:2.0
PRODID:-//The Community Voice - ECPv6.15.20//NONSGML v1.0//EN
CALSCALE:GREGORIAN
METHOD:PUBLISH
X-WR-CALNAME:The Community Voice
X-ORIGINAL-URL:https://www.communityvoiceks.com
X-WR-CALDESC:Events for The Community Voice
REFRESH-INTERVAL;VALUE=DURATION:PT1H
X-Robots-Tag:noindex
X-PUBLISHED-TTL:PT1H
BEGIN:VTIMEZONE
TZID:America/Chicago
BEGIN:DAYLIGHT
TZOFFSETFROM:-0600
TZOFFSETTO:-0500
TZNAME:CDT
DTSTART:20250309T080000
END:DAYLIGHT
BEGIN:STANDARD
TZOFFSETFROM:-0500
TZOFFSETTO:-0600
TZNAME:CST
DTSTART:20251102T070000
END:STANDARD
BEGIN:DAYLIGHT
TZOFFSETFROM:-0600
TZOFFSETTO:-0500
TZNAME:CDT
DTSTART:20260308T080000
END:DAYLIGHT
BEGIN:STANDARD
TZOFFSETFROM:-0500
TZOFFSETTO:-0600
TZNAME:CST
DTSTART:20261101T070000
END:STANDARD
BEGIN:DAYLIGHT
TZOFFSETFROM:-0600
TZOFFSETTO:-0500
TZNAME:CDT
DTSTART:20270314T080000
END:DAYLIGHT
BEGIN:STANDARD
TZOFFSETFROM:-0500
TZOFFSETTO:-0600
TZNAME:CST
DTSTART:20271107T070000
END:STANDARD
END:VTIMEZONE
BEGIN:VEVENT
DTSTART;TZID=America/Chicago:20260429T180000
DTEND;TZID=America/Chicago:20260429T200000
DTSTAMP:20260420T182545
CREATED:20260420T183530Z
LAST-MODIFIED:20260420T183530Z
UID:10003474-1777485600-1777492800@www.communityvoiceks.com
SUMMARY:Politics and Business Networking | Elevating Your Potential - Kansas City
DESCRIPTION:Strive welcomes you to ‘Politics and Business Networking’\, an event for tenured and newcomers at Harry’s! Event is 21+. Limited Tickets.\n\n\nStrive welcomes you to ‘Politics and Business Networking’\, Kansas City’s hottest networking event! We are set in the perfect central location for all to join. \n \n \n \n \nAre you interested in politics and business? Want to elevate your career? Meet Consultants\, Analysts of all types\, Entrepreneurs\, Lawyers\, Political Science Professionals and more who are active in the space or are eager to get started. \n \n \n \n \n**This will be a multi-vertical event** \nThere will be professionals with backgrounds in the arts\, finance\, tech\, real estate\, healthcare\, and more. Come with an open mind\, and leave with connections that wouldn’t be possible otherwise! \n \n \n \n \nPack some business cards and come with an open mind! \n \n \n \n \nMeet your future business partners\, employers\, coworkers\, investors\, and friends. You don’t want to miss this opportunity to expand your network and create a brighter future. \n \n \n \n \nWe will have a space for our event to check-in. \n \n \n \n \nThe event will go from 6:00 PM – 8:00 PM(feel free to come at any point in this timeframe). \n \n \n \n \nName tags will be provided. \n \n \n \n \nBusiness casual dress code. Job fair attire. \n \n \n \n \nRemember – it’s not about who you know today\, it’s who you’ll meet tomorrow! \n \n \n \n \n \n \n \n \nWe look forward to meeting you at the event! \n \n \n \n \nSincerely\, \nStrive Networking Team \n \n \n \n \nRefund requests are permitted up to 24 hours after purchase\, so long as we are not within 48 hours before the event start time. Refunds will be made in full and repaid to your method of payment. Note that we are unable to reimburse for eventbrite fees. \n \n \n \n \nDisclaimer: By attending Strive Networking events you agree to photos/videos taken during the event being used to promote future events. \n\n\n\n\n	More from the VOICE
URL:https://www.communityvoiceks.com/event/politics-and-business-networking-elevating-your-potential-kansas-city/
LOCATION:Harry’s Bar & Tables\, 501 Westport Road\, Kansas City\, MO\, 64111\, United States
ATTACH;FMTTYPE=image/jpeg:https://www.communityvoiceks.com/wp-content/uploads/2026/04/f036617a4cd3935d81dcaf821bdec28d.jpg
END:VEVENT
END:VCALENDAR