BEGIN:VCALENDAR
VERSION:2.0
PRODID:-//The Community Voice - ECPv6.15.20//NONSGML v1.0//EN
CALSCALE:GREGORIAN
METHOD:PUBLISH
X-ORIGINAL-URL:https://www.communityvoiceks.com
X-WR-CALDESC:Events for The Community Voice
REFRESH-INTERVAL;VALUE=DURATION:PT1H
X-Robots-Tag:noindex
X-PUBLISHED-TTL:PT1H
BEGIN:VTIMEZONE
TZID:America/Chicago
BEGIN:DAYLIGHT
TZOFFSETFROM:-0600
TZOFFSETTO:-0500
TZNAME:CDT
DTSTART:20250309T080000
END:DAYLIGHT
BEGIN:STANDARD
TZOFFSETFROM:-0500
TZOFFSETTO:-0600
TZNAME:CST
DTSTART:20251102T070000
END:STANDARD
BEGIN:DAYLIGHT
TZOFFSETFROM:-0600
TZOFFSETTO:-0500
TZNAME:CDT
DTSTART:20260308T080000
END:DAYLIGHT
BEGIN:STANDARD
TZOFFSETFROM:-0500
TZOFFSETTO:-0600
TZNAME:CST
DTSTART:20261101T070000
END:STANDARD
BEGIN:DAYLIGHT
TZOFFSETFROM:-0600
TZOFFSETTO:-0500
TZNAME:CDT
DTSTART:20270314T080000
END:DAYLIGHT
BEGIN:STANDARD
TZOFFSETFROM:-0500
TZOFFSETTO:-0600
TZNAME:CST
DTSTART:20271107T070000
END:STANDARD
END:VTIMEZONE
BEGIN:VEVENT
DTSTART;TZID=America/Chicago:20260321T170000
DTEND;TZID=America/Chicago:20260321T233000
DTSTAMP:20260422T030557
CREATED:20260303T212816Z
LAST-MODIFIED:20260303T212816Z
UID:10003368-1774112400-1774135800@www.communityvoiceks.com
SUMMARY:GGKC - GHANA @ 69! - INDEPENDENCE DAY CELEBRATION!
DESCRIPTION:Join us at the Merriam Community Center to celebrate Ghana’s 69th Independence Day with a lively event filled with music\, culture\, and fun!\n\n\nGGKC – GHANA @ 69!\nGet ready to party and celebrate Ghana’s 69th Independence Day with us! Join the fun in person for an unforgettable day packed with music\, culture\, and good vibes. Whether you’re Ghanaian or just love the spirit\, this event is your spot to connect\, dance\, and honor the journey of Ghana. Don’t miss out on the celebration of freedom and unity—see you there! \n\n\n\n\n	More from the VOICE
URL:https://www.communityvoiceks.com/event/ggkc-ghana-69-independence-day-celebration/
LOCATION:Merriam Community Center\, 6040 Slater Street\, Merriam\, KS\, 66202\, United States
ATTACH;FMTTYPE=image/jpeg:https://www.communityvoiceks.com/wp-content/uploads/2026/03/9583ce7290094550e2d4f62e70ef616a.jpg
END:VEVENT
END:VCALENDAR