BEGIN:VCALENDAR
VERSION:2.0
PRODID:-//The Community Voice - ECPv6.15.20//NONSGML v1.0//EN
CALSCALE:GREGORIAN
METHOD:PUBLISH
X-WR-CALNAME:The Community Voice
X-ORIGINAL-URL:https://www.communityvoiceks.com
X-WR-CALDESC:Events for The Community Voice
REFRESH-INTERVAL;VALUE=DURATION:PT1H
X-Robots-Tag:noindex
X-PUBLISHED-TTL:PT1H
BEGIN:VTIMEZONE
TZID:America/Chicago
BEGIN:DAYLIGHT
TZOFFSETFROM:-0600
TZOFFSETTO:-0500
TZNAME:CDT
DTSTART:20250309T080000
END:DAYLIGHT
BEGIN:STANDARD
TZOFFSETFROM:-0500
TZOFFSETTO:-0600
TZNAME:CST
DTSTART:20251102T070000
END:STANDARD
BEGIN:DAYLIGHT
TZOFFSETFROM:-0600
TZOFFSETTO:-0500
TZNAME:CDT
DTSTART:20260308T080000
END:DAYLIGHT
BEGIN:STANDARD
TZOFFSETFROM:-0500
TZOFFSETTO:-0600
TZNAME:CST
DTSTART:20261101T070000
END:STANDARD
BEGIN:DAYLIGHT
TZOFFSETFROM:-0600
TZOFFSETTO:-0500
TZNAME:CDT
DTSTART:20270314T080000
END:DAYLIGHT
BEGIN:STANDARD
TZOFFSETFROM:-0500
TZOFFSETTO:-0600
TZNAME:CST
DTSTART:20271107T070000
END:STANDARD
END:VTIMEZONE
BEGIN:VEVENT
DTSTART;TZID=America/Chicago:20260606T150000
DTEND;TZID=America/Chicago:20260606T220000
DTSTAMP:20260420T055756
CREATED:20260129T015338Z
LAST-MODIFIED:20260129T015338Z
UID:10003278-1780758000-1780783200@www.communityvoiceks.com
SUMMARY:First Saturdays at Keystone: Artist & Vendor Market + Live Music
DESCRIPTION:A free monthly artist & vendor market with live music\, DJs\, food trucks\, and youth arts programming in the heart of Kansas City.
URL:https://www.communityvoiceks.com/event/first-saturdays-at-keystone-artist-vendor-market-live-music-7/
LOCATION:800 W 18th St\, 800 West 18th Street\, Kansas City\, MO\, 64108\, United States
ATTACH;FMTTYPE=image/jpeg:https://www.communityvoiceks.com/wp-content/uploads/2026/01/6081ebeced31afaa362ec8db0362cc32.jpg
END:VEVENT
BEGIN:VEVENT
DTSTART;TZID=America/Chicago:20260606T180000
DTEND;TZID=America/Chicago:20260606T220000
DTSTAMP:20260420T055756
CREATED:20260408T194556Z
LAST-MODIFIED:20260408T194600Z
UID:10003458-1780768800-1780783200@www.communityvoiceks.com
SUMMARY:Midwest R & B Fest
DESCRIPTION:Performing Live – Jacques\,  Kelly Price\, Lyfe Jennings& Rome \n\n\n\nTickets at selectaseat
URL:https://www.communityvoiceks.com/event/midwest-r-b-fest/
LOCATION:KS
CATEGORIES:Children, Youth & Families,Festivals & Fairs,Food & Beverage,Music,Performance & Visual Arts
ATTACH;FMTTYPE=image/jpeg:https://www.communityvoiceks.com/wp-content/uploads/2026/04/midwest-rb-fest.jpg
END:VEVENT
END:VCALENDAR