BEGIN:VCALENDAR
VERSION:2.0
PRODID:-//The Community Voice - ECPv6.15.20//NONSGML v1.0//EN
CALSCALE:GREGORIAN
METHOD:PUBLISH
X-ORIGINAL-URL:https://www.communityvoiceks.com
X-WR-CALDESC:Events for The Community Voice
REFRESH-INTERVAL;VALUE=DURATION:PT1H
X-Robots-Tag:noindex
X-PUBLISHED-TTL:PT1H
BEGIN:VTIMEZONE
TZID:America/Chicago
BEGIN:DAYLIGHT
TZOFFSETFROM:-0600
TZOFFSETTO:-0500
TZNAME:CDT
DTSTART:20250309T080000
END:DAYLIGHT
BEGIN:STANDARD
TZOFFSETFROM:-0500
TZOFFSETTO:-0600
TZNAME:CST
DTSTART:20251102T070000
END:STANDARD
BEGIN:DAYLIGHT
TZOFFSETFROM:-0600
TZOFFSETTO:-0500
TZNAME:CDT
DTSTART:20260308T080000
END:DAYLIGHT
BEGIN:STANDARD
TZOFFSETFROM:-0500
TZOFFSETTO:-0600
TZNAME:CST
DTSTART:20261101T070000
END:STANDARD
BEGIN:DAYLIGHT
TZOFFSETFROM:-0600
TZOFFSETTO:-0500
TZNAME:CDT
DTSTART:20270314T080000
END:DAYLIGHT
BEGIN:STANDARD
TZOFFSETFROM:-0500
TZOFFSETTO:-0600
TZNAME:CST
DTSTART:20271107T070000
END:STANDARD
END:VTIMEZONE
BEGIN:VEVENT
DTSTART;TZID=America/Chicago:20260510T110000
DTEND;TZID=America/Chicago:20260510T160000
DTSTAMP:20260420T132003
CREATED:20260420T181640Z
LAST-MODIFIED:20260420T181640Z
UID:10003466-1778410800-1778428800@www.communityvoiceks.com
SUMMARY:Mama Market : A Mothers Day Pop Up Event
DESCRIPTION:Celebrate moms with unique gifts\, tasty treats\, and good vibes at this fun pop-up just for Mother’s Day!
URL:https://www.communityvoiceks.com/event/mama-market-a-mothers-day-pop-up-event/
LOCATION:102 St Francis\, 102 Saint Francis\, Wichita\, KS\, 67202\, United States
ATTACH;FMTTYPE=image/jpeg:https://www.communityvoiceks.com/wp-content/uploads/2026/04/f962b7757b9b53785427d3b51553a116.jpg
END:VEVENT
BEGIN:VEVENT
DTSTART;TZID=America/Chicago:20260510T150000
DTEND;TZID=America/Chicago:20260510T163000
DTSTAMP:20260420T132003
CREATED:20260420T181711Z
LAST-MODIFIED:20260420T181711Z
UID:10003467-1778425200-1778430600@www.communityvoiceks.com
SUMMARY:Is Humanity Reaching a Spiritual Tipping Point? (Free Event)
DESCRIPTION:Get a ticket to let us know you are coming!\n\n\nCan you turn on the tv or check your news feed anymore without being bombarded with images and headlines of chaos and struggle? Could it be that humanity is facing not just material challenges\, but that we are experiencing the growing pains of living through a spiritual age of transition\, a crucial step in humanity’s pathway towards progress? \n \nEverywhere we look we seem to be faced with the growing fractures in our society\, but lacking in a true understanding of why or a clear vision to see us through. That the presence of chaos in the world around us is growing seems inevitable. And yet the existing systems meant to mitigate that chaos no longer seem able to heal the growing divisions that are threatening the status quo. But is that a bad thing? Or could this chaos actually be shedding light on the need for a new way forward? \n \nCome join a different kind of conversation – one that welcomes every perspective in a search for the truths that unite us all – as we discuss the spiritual perspective offered by the Bahá’í Teachings on the greater forces that emerge out of this chaos. Join us for a lively discussion as we explore the realities of our rapidly changing society\, the spiritual tipping point we are now entering\, and what we can do to help us all emerge as a stronger and more unified human race. \n \n“The Earth is but one country and mankind its citizens.” – Bahá’í Teachings \n \n*** This event is free and open to all regardless of background or belief. Donations will not be accepted.
URL:https://www.communityvoiceks.com/event/is-humanity-reaching-a-spiritual-tipping-point-free-event/
LOCATION:Wichita Public Library – Evergreen Branch\, 2601 North Arkansas Avenue\, Wichita\, KS\, 67204\, United States
ATTACH;FMTTYPE=image/jpeg:https://www.communityvoiceks.com/wp-content/uploads/2026/04/8c76947236ddbc9d1f951608c0dd8e45.jpg
END:VEVENT
BEGIN:VEVENT
DTSTART;TZID=America/Chicago:20260511T163000
DTEND;TZID=America/Chicago:20260511T190000
DTSTAMP:20260420T132003
CREATED:20260406T194850Z
LAST-MODIFIED:20260406T194850Z
UID:10003454-1778517000-1778526000@www.communityvoiceks.com
SUMMARY:Counted Out
DESCRIPTION:Join the STEM Connect ecosystem for a happy hour and film screening of the award-winning documentary Counted Out.\n\n\nMath confidence starts with connection—between teachers and families\, and between kids and the adults who champion them. \nHeavy hors d’oeuvres and beverages will be provided.
URL:https://www.communityvoiceks.com/event/counted-out/
LOCATION:JE Dunn Construction\, 1001 Locust Street\, Kansas City\, MO\, 64106\, United States
ATTACH;FMTTYPE=image/jpeg:https://www.communityvoiceks.com/wp-content/uploads/2026/04/e60b331f9a90a582f0c8c2e877c45aef.jpg
END:VEVENT
BEGIN:VEVENT
DTSTART;TZID=America/Chicago:20260514T193000
DTEND;TZID=America/Chicago:20260514T220000
DTSTAMP:20260420T132003
CREATED:20260226T194229Z
LAST-MODIFIED:20260226T194234Z
UID:10003340-1778787000-1778796000@www.communityvoiceks.com
SUMMARY:Tracy Lawrence
DESCRIPTION:With 13M albums sold and 18 No.1 singles\, Tracy Lawrence has solidified his status as a cornerstone of country music for more than thirty years. Even as he continues to release music and tour\, the CMA and ACM award winner’s ambitions have also extended to numerous media and charity projects. His interest in working with younger artists and being able to explore different topics led to the “TL’s Road House” podcast\, which has featured guests such as HARDY\, Jelly Roll\, Lainey Wilson and more. \nOver three decades into his decorated career\, Lawrence’s legacy continues to evolve. He spent 2024 touring with artists like Riley Green\, Luke Bryan\, Lainey Wilson and more on top of his first-ever headlining show at the Ryman\, which was sold out\, and he returned to the iconic venue this year with another sold-out show. After revisiting his catalog with the Hindsight 2020 Vol 1\, 2 and 3 and Live at Billy Bob’s Texas albums\, Lawrence released his Out Here In It EP\, available everywhere now. Meanwhile\, Lawrence continues to uphold his commitment to helping those in need across Middle Tennessee and beyond with his Mission:Possible non-profit committed to serving the homeless. From its humble beginnings cooking Thanksgiving dinners for the Nashville Rescue Mission to frying over 15K turkeys to date\, the organization has raised more than $1.3M for those in need. In recognition of his philanthropic efforts\, Lawrence was honored with the 2023 CRS Humanitarian Award. \n  \nTicket link: https://selectaseat.com/tracy
URL:https://www.communityvoiceks.com/event/tracy-lawrence/
LOCATION:Century II\, 225 W Douglas\, Wichita\, Kansas
ATTACH;FMTTYPE=image/jpeg:https://www.communityvoiceks.com/wp-content/uploads/2026/02/lawrence_1400x1000.jpg
END:VEVENT
BEGIN:VEVENT
DTSTART;TZID=America/Chicago:20260515T170000
DTEND;TZID=America/Chicago:20260515T230000
DTSTAMP:20260420T132003
CREATED:20260329T134826Z
LAST-MODIFIED:20260329T134829Z
UID:10003430-1778864400-1778886000@www.communityvoiceks.com
SUMMARY:BLACK WALL STREET RALLY FRIDAY LINEUP
DESCRIPTION:Get ready for a FULL evening of music\, energy\, and culture in the heart of Greenwood!  \n\n\n\nBRANOOFUNK LIVE \n\n\n\nFeel the rhythm with this electrifying DJ & drummer experience that will have the crowd moving from start to finish! \n\n\n\nMay 15 \n\n\n\n5:00 PM – 6:45 PM \n\n\n\nMS. VAL & THE WISEMAN \n\n\n\nBringing powerful vocals\, live instrumentation\, and unforgettable vibes to close out the night! \n\n\n\n May 15 \n\n\n\n7:00 PM \n\n\n\n Greenwood & Archer Community Stage \n\n\n\n Historic Black Wall Street – Tulsa\, OK \n\n\n\nPull up early\, stay late\, and experience the sound\, the culture\, and the celebration of community. \n\n\n\nwww.blackwallstreetrally.com
URL:https://www.communityvoiceks.com/event/black-wall-street-rally-friday-lineup/
LOCATION:KS
CATEGORIES:Children, Youth & Families,Festivals & Fairs,Food & Beverage,movies & Speeches,Music,Performance & Visual Arts
ATTACH;FMTTYPE=image/jpeg:https://www.communityvoiceks.com/wp-content/uploads/2026/03/BWS.jpg
END:VEVENT
BEGIN:VEVENT
DTSTART;TZID=America/Chicago:20260515T190000
DTEND;TZID=America/Chicago:20260517T163000
DTSTAMP:20260420T132003
CREATED:20260406T194852Z
LAST-MODIFIED:20260406T194852Z
UID:10003455-1778871600-1779035400@www.communityvoiceks.com
SUMMARY:Awaken my identity Youth conference
DESCRIPTION:ITS TIME!!!!!\nSomething is shifting in this generation.\nGod is calling young people out of hiding…
URL:https://www.communityvoiceks.com/event/awaken-my-identity-youth-conference/
LOCATION:9412 E Independence Ave\, 9412 East Independence Avenue\, Independence\, MO\, 64053\, United States
ATTACH;FMTTYPE=image/jpeg:https://www.communityvoiceks.com/wp-content/uploads/2026/04/0a31f668417a74067c6702ad8a172442.jpg
END:VEVENT
BEGIN:VEVENT
DTSTART;TZID=America/Chicago:20260516T090000
DTEND;TZID=America/Chicago:20260516T110000
DTSTAMP:20260420T132003
CREATED:20260318T192442Z
LAST-MODIFIED:20260318T192442Z
UID:10003401-1778922000-1778929200@www.communityvoiceks.com
SUMMARY:Mentoring at Keystone CoLAB
DESCRIPTION:Operation Code KC weekly mentoring meeting
URL:https://www.communityvoiceks.com/event/mentoring-at-keystone-colab-6/
LOCATION:800 E 18th St\, 800 East 18th Street\, Kansas City\, MO\, 64108\, United States
ATTACH;FMTTYPE=image/jpeg:https://www.communityvoiceks.com/wp-content/uploads/2025/07/a87861d226112c48cc1e257b3528a374.jpg
END:VEVENT
END:VCALENDAR