BEGIN:VCALENDAR
VERSION:2.0
PRODID:-//The Community Voice - ECPv6.15.20//NONSGML v1.0//EN
CALSCALE:GREGORIAN
METHOD:PUBLISH
X-WR-CALNAME:The Community Voice
X-ORIGINAL-URL:https://www.communityvoiceks.com
X-WR-CALDESC:Events for The Community Voice
REFRESH-INTERVAL;VALUE=DURATION:PT1H
X-Robots-Tag:noindex
X-PUBLISHED-TTL:PT1H
BEGIN:VTIMEZONE
TZID:America/Chicago
BEGIN:DAYLIGHT
TZOFFSETFROM:-0600
TZOFFSETTO:-0500
TZNAME:CDT
DTSTART:20250309T080000
END:DAYLIGHT
BEGIN:STANDARD
TZOFFSETFROM:-0500
TZOFFSETTO:-0600
TZNAME:CST
DTSTART:20251102T070000
END:STANDARD
BEGIN:DAYLIGHT
TZOFFSETFROM:-0600
TZOFFSETTO:-0500
TZNAME:CDT
DTSTART:20260308T080000
END:DAYLIGHT
BEGIN:STANDARD
TZOFFSETFROM:-0500
TZOFFSETTO:-0600
TZNAME:CST
DTSTART:20261101T070000
END:STANDARD
BEGIN:DAYLIGHT
TZOFFSETFROM:-0600
TZOFFSETTO:-0500
TZNAME:CDT
DTSTART:20270314T080000
END:DAYLIGHT
BEGIN:STANDARD
TZOFFSETFROM:-0500
TZOFFSETTO:-0600
TZNAME:CST
DTSTART:20271107T070000
END:STANDARD
END:VTIMEZONE
BEGIN:VEVENT
DTSTART;TZID=America/Chicago:20260417T100000
DTEND;TZID=America/Chicago:20260419T190000
DTSTAMP:20260420T073901
CREATED:20260318T200244Z
LAST-MODIFIED:20260318T200247Z
UID:10003409-1776420000-1776625200@www.communityvoiceks.com
SUMMARY:WICHITA FOOD \, ART AND CRAFT VENDOR SHOW
DESCRIPTION:WHY YOU SHOULD ATTEND \n\n\n\nLocal Flavors: Feast on a variety of tasty eats from top local food vendors. \n\n\n\nCreative Hub: Browse and buy cool art and unique\, handmade crafts. \n\n\n\nCommunity Fun: Relax and enjoy the atmosphere in the beautiful Naftzger Park. \n\n\n\nCONTACT & ENQUIRIES Tasty Eats • Cool Art • Unique Crafts \n\n\n\nFor vendor registration\, sponsorship opportunities\, or general questions\, please contact:
URL:https://www.communityvoiceks.com/event/wichita-food-art-and-craft-vendor-show/
LOCATION:Naftzger Park\, 601 East Douglas Avenue\, Wichita\, KS\, 67202\, United States
CATEGORIES:Festivals & Fairs,Food & Beverage
ATTACH;FMTTYPE=image/webp:https://www.communityvoiceks.com/wp-content/uploads/2026/03/naftzger.webp
END:VEVENT
BEGIN:VEVENT
DTSTART;TZID=America/Chicago:20260417T100000
DTEND;TZID=America/Chicago:20260419T190000
DTSTAMP:20260420T073901
CREATED:20260406T184126Z
LAST-MODIFIED:20260406T184126Z
UID:10003446-1776420000-1776625200@www.communityvoiceks.com
SUMMARY:WICHITA FOOD \, ART AND CRAFT VENDOR SHOW
DESCRIPTION:Come enjoy tasty eats\, cool art\, and unique crafts at the Wichita Food\, Art & Craft Vendor Show!\n\n\nWICHITA FOOD\, ART AND CRAFT VENDOR SHOW\nTasty Eats • Cool Art • Unique Crafts \nEVENT DETAILS \n📅 DATE: April 17 – April 19 \n⏰ TIME: Friday at 10:00 AM – Sunday at 7:00 PM CDT \n📍 LOCATION: Naftzger Park \n🗺️ ADDRESS: 601 East Douglas Avenue\, Wichita\, KS 67202 \nWHY YOU SHOULD ATTEND \nLocal Flavors: Feast on a variety of tasty eats from top local food vendors. \nCreative Hub: Browse and buy cool art and unique\, handmade crafts. \nCommunity Fun: Relax and enjoy the atmosphere in the beautiful Naftzger Park. \nCONTACT & ENQUIRIES \nFor vendor registration\, sponsorship opportunities\, or general questions\, please contact: \n📧 maepenelope985@gmail.com\nWELCOME
URL:https://www.communityvoiceks.com/event/wichita-food-art-and-craft-vendor-show-2/
LOCATION:Naftzger Park\, 601 East Douglas Avenue\, Wichita\, KS\, 67202\, United States
ATTACH;FMTTYPE=image/jpeg:https://www.communityvoiceks.com/wp-content/uploads/2026/04/1c0a1ba6a99349eb2d4fd8df317715b2.jpg
END:VEVENT
BEGIN:VEVENT
DTSTART;TZID=America/Chicago:20260418T190000
DTEND;TZID=America/Chicago:20260419T010000
DTSTAMP:20260420T073901
CREATED:20260318T180421Z
LAST-MODIFIED:20260406T184914Z
UID:10003390-1776538800-1776560400@www.communityvoiceks.com
SUMMARY:9TH ANNUAL BLACK WITH A SPLASH OF COLOR
DESCRIPTION:BLACK THEME WITH THE STEP QUEENS A NIGHT OF DANCING AND BEAUTY. ADD A SPLASH OF COLOR TO YOUR BLACK IS OPTIONAL.
URL:https://www.communityvoiceks.com/event/9th-annual-black-with-a-splash-of-color/
LOCATION:Pete’s Place Restaurant & Lounge\, 12044 Blue Ridge Extension\, Grandview\, MO\, 64030\, United States
ATTACH;FMTTYPE=image/jpeg:https://www.communityvoiceks.com/wp-content/uploads/2026/03/5cb48ad2e6deaba886ec0e6a13d05f77.jpg
END:VEVENT
BEGIN:VEVENT
DTSTART;TZID=America/Chicago:20260419T120000
DTEND;TZID=America/Chicago:20260419T160000
DTSTAMP:20260420T073901
CREATED:20260303T200525Z
LAST-MODIFIED:20260303T200528Z
UID:10003354-1776600000-1776614400@www.communityvoiceks.com
SUMMARY:Open Streets ICT - WSU Shocker Neighborhood
DESCRIPTION:This spring\, Open Streets ICT returns to the WSU & Shocker Neighborhood\, transforming nearly two miles of 17th Street into a lively\, people-powered celebration of community\, movement\, and wellness. With the street closed to traffic\, the space comes alive—perfect for walking\, biking\, skating\, running\, dancing\, and discovering all the fun along the way.There’s truly something for everyone! Enjoy mouthwatering eats from local food trucks\, soak in live music and high-energy performances\, and explore neighborhood businesses and community organizations lining the route. Every step\, roll\, and groove helps activate our streets and supports a healthier\, more connected Wichita.So grab your friends\, bring the family\, and get ready for an afternoon full of laughter\, connection\, and feel-good fun. Let’s open the streets\, energize the neighborhood\, and make even more unforgettable memories in 2026! \n\n\n\n\n\n\n\n From high-energy drumlines to incredible music and dance—there’s something around every corner. \n\n\n\n\n\n\n\n Entertainment Schedule Coming Soon! \n\n\n\n\n\n\n\n Learn more: https://www.wichita.gov/…/Open-Streets-ICT—WSU…Vendor Registration: https://www.wichita.gov/713/VendorsVolunteer Registration: https://www.wichita.gov/1314/Volunteers
URL:https://www.communityvoiceks.com/event/open-streets-ict-wsu-shocker-neighborhood/
LOCATION:KS
CATEGORIES:Children, Youth & Families,Festivals & Fairs,Food & Beverage
ATTACH;FMTTYPE=image/jpeg:https://www.communityvoiceks.com/wp-content/uploads/2026/03/wsu-open-streets.jpg
END:VEVENT
BEGIN:VEVENT
DTSTART;TZID=America/Chicago:20260419T160000
DTEND;TZID=America/Chicago:20260419T210000
DTSTAMP:20260420T073901
CREATED:20260406T190756Z
LAST-MODIFIED:20260406T190756Z
UID:10003449-1776614400-1776632400@www.communityvoiceks.com
SUMMARY:R&B on The Rooftop KC
DESCRIPTION:Come catch a Vibe at R&B on The Rooftop KC\n\n\n📣 KC We Back Outside at  \n🎶✨ R&B on the Rooftop KC✨️🎶  \n📅 April 19th  \n⏰ 4PM – 9PM  \n📍 Chicken N Pickle NKC 1761 Burlington St. North Kansas City\, MO 64116  \n🎟️ Tickets\, Sections & Tables available now:  \n👉🏾 RNBOnTheRooftopNKC.eventbrite.com (You can pay at the door but the prices will increase)  \n🤸🏿‍♀️ Inside & Outside Seating Available 🚨THERE WILL BE “LIMITED” FIRST COME OPEN SEATING  \n🎤 Hosted by Tez Carter Events  \n🎧 Music by DJ 9ELEVEN Vibe:  \n👗 Sundresses flowing in the breeze  \n🎶 Smooth R&B all night  \n🍸 Drinks in hand \n 🌇 Rooftop views  \n👉🏾 R&B\, 2 Stepping\, Line Dancing\, and a lil turn up with Great Views\, and Good Drinks💃🏾  \n🌤This is one of them feel good\, look good\, smell good type of nights 😌 \n✨ From day party vibes to sunset moments it’s nothing but grown & sexy energy. Grab your people\, secure your seat\, and let’s catch this vibe the right way 🌇🍹  \n⚠️ 21+ Event  \n🚫 No Smoking/Vaping  \n💳 Cashless Facility  \n👉🏾 Regardless of weather this event will go on  \n#RNBOnTheRooftop #TezCarterEvents #RooftopVibes #DayPartyVibes #OutsideSeason #GrownAndSexy
URL:https://www.communityvoiceks.com/event/rb-on-the-rooftop-kc/
LOCATION:Chicken N Pickle – North Kansas City\, 1761 Burlington Street\, North Kansas City\, MO\, 64116\, United States
ATTACH;FMTTYPE=image/jpeg:https://www.communityvoiceks.com/wp-content/uploads/2026/04/02b098942be3e0a3d40cc6e38913b12e.jpg
END:VEVENT
BEGIN:VEVENT
DTSTART;TZID=America/Chicago:20260423T190000
DTEND;TZID=America/Chicago:20260423T213000
DTSTAMP:20260420T073901
CREATED:20260406T192728Z
LAST-MODIFIED:20260406T192728Z
UID:10003450-1776970800-1776979800@www.communityvoiceks.com
SUMMARY:Jazz Thursday: Amber "Flutienastiness" Underwood (free show)
DESCRIPTION:Jazz Flutist Amber Underwood returns to The Ship for a free Thursday evening show.\n\n\nShowtime 7:00pm – 9:30pm // Free Admission \nJazz flutist\, educator\, band director\, and band leader\, Amber Underwood is a native of Kansas City and has been entertaining and performing music since the tender age of 8. \nAmber is our modern-day soul and contemporary jazz flautist and a force to be reckoned with. Her debut album\, ‘This Is Me’ has gained International recognition and was name one of the Top 25 Jazz Albums of Kansas City in 2020. Amber has also appeared on jazz playlists and featured on various recordings from all genres. Amber ‘Flutienastiness’ Underwood is the future of contemporary soul jazz flute! \n\n\n~~~~~ \nFree Jazz Thursday shows at The Ship are a good way to discover emerging local musical talent in a cozy\, intimate setting. The shows are free to attend\, but your donations are appreciated to help us offset costs and pay the performers. All seating is first come\, first served\, so please arrive early to get the best choice. The Ship is open all day and serves some of the finest food and beverages in the area.
URL:https://www.communityvoiceks.com/event/jazz-thursday-amber-flutienastiness-underwood-free-show/
LOCATION:The Ship\, 1221 Union Avenue\, Kansas City\, MO\, 64101\, United States
ATTACH;FMTTYPE=image/jpeg:https://www.communityvoiceks.com/wp-content/uploads/2026/04/59cc5f7f2d5e978a5256ce0d1de0e60d.jpg
END:VEVENT
BEGIN:VEVENT
DTSTART;TZID=America/Chicago:20260424T114500
DTEND;TZID=America/Chicago:20260424T133000
DTSTAMP:20260420T073901
CREATED:20260406T192730Z
LAST-MODIFIED:20260406T192730Z
UID:10003451-1777031100-1777037400@www.communityvoiceks.com
SUMMARY:Jim Clyburn\, The First Eight in Kansas City
DESCRIPTION:Enjoy an event with South Carolina Congressman Jim Clyburn in Kansas City!\n\n\nJoin Rainy Day Books and Kansas City Friends of Representative Jim E. Clyburn at the Historic Paseo YMCA to celebrate The First Eight: A Personal History of the Pioneering Black Congressmen Who Shaped a Nation!\n \nEnjoy an intimate discussion of “The First Eight\,” Congressman Clyburn’s recently released book on the eight African American Members of Congress from South Carolina who preceded him in office during the Reconstruction Era of the late 1800s. \nThis event takes place at the Historic Paseo YMCA and includes a talk from the author and an opportunity to get your book signed. \nThe first 100 tickets with books have kindly been donated by the Kansas City Friends of Representative Jim E. Clyburn. \n \nThe Book\nThe First Eight: A Personal History of the Pioneering Black Congressmen Who Shaped a Nation \nFrom one of America’s most venerable politicians\, the powerful\, untold story of the pioneering Black congressmen from South Carolina who were elected in the aftermath of the Civil War\, revealing why it took nearly a century before the ninth\, James Clyburn\, was elected. \nToday\, South Carolina congressman James E. Clyburn is renowned as a Democratic kingmaker and our nation’s most august Black political leader. But behind him stand eight other remarkable men: the first Black politicians to go to Congress from his home state\, and who blazed a path for his own ascent. Since his own arrival in Congress in the early nineties\, Congressman Clyburn has been guided by the wisdom and example of these men\, and also instructed by their struggles—especially with the demon of American racism. South Carolina’s first eight Black congressmen all rose to office following the Civil War and emancipation\, but then the dark veil of Jim Crow fell across the South. It would take nearly a century before the ninth Black representative\, Clyburn himself\, was elected. \nIn The First Eight\, Congressman Clyburn shares these men’s stories\, and their message of liberty\, with the nation they served. Among them are Joseph Rainey\, the first Black politician to be elected to the U.S. House of Representatives in our nation’s history\, who was born enslaved in 1832; Robert Smalls\, iconic for his heroism during the Civil War\, when he fled the Confederacy\, stole a ship\, and fought for the Union Army; and Richard Cain\, who ran a widely read newspaper for Black South Carolinians and is associated with the Emanuel AME Church\, one of the oldest and most distinguished Black churches in America\, and where neo-Nazi Dylan Roof killed nine Black congregants in a mass shooting in 2015. Through the trials\, tribulations\, triumphs\, and challenges that all nine men faced\, Congressman Clyburn reveals a whole new way of understanding the period between the Civil War and the present. \nA unique blend of history and memoir\, The First Eight is both a monument to the legacies of these eight trailblazing Americans\, and also a clear-eyed appraisal of how far we’ve come\, and how far we have left to go\, in our nation’s ongoing struggle for true democracy. \n \nThe Author\nJames E. Clyburn\, the Congressman representing South Carolina’s 6th Congressional District in the U.S. House of Representatives\, where he previously served as Majority Whip. A more than 30-year Congressional veteran\, he has been an influential and effective legislative leader and an unwavering voice for civil rights. Born in Sumter\, South Carolina\, during the Jim Crow era\, he has been awarded the NAACP’s highest honor – the Spingarn Medal\, the Lyndon Baines Johnson Foundation’s Liberty and Justice for All Award\, the Harry S. Truman Foundation’s Good Neighbor Award\, and holds honorary degrees from nearly 40 colleges and universities. In 2024\, he was bestowed the Presidential Medal of Freedom\, the highest civilian honor in the United States. \n \nThis event was made possible by:\nDianne & Congressman Emanuel Cleaver II \nJulana Harper-Sachs & Adam P. Sachs \nKerry Adam \nDr. Kimberly Beatty & Kelvin Beatty \nHon. Alvin Brooks \nProf. Julie Cheslik & Paul Black \nGwendolyn Grant \nBob Kendrick \nKim & Nikki Newton \nSteve Swartzman \nDr. Mark & Gaye Cohen \nRita Leifhelm & Lonnie Shalton \n \nPlease Note: There are no refunds for this event. If you are unable to attend\, your book will be available for pickup at Rainy Day Books starting the following day. If you are not local\, we’ll be happy to mail it to you upon request. Thank you for your support! \nWe will hold your event book in-store for a maximum of 6 months following the event. If you have not retrieved your book in that time period\, it will be donated.
URL:https://www.communityvoiceks.com/event/jim-clyburn-the-first-eight-in-kansas-city/
LOCATION:1824 W Paseo Blvd\, 1824 West Paseo Boulevard\, Kansas City\, MO\, 64108\, United States
ATTACH;FMTTYPE=image/jpeg:https://www.communityvoiceks.com/wp-content/uploads/2026/04/3b6ef58feea0968cf8877a301c157116.jpg
END:VEVENT
BEGIN:VEVENT
DTSTART;TZID=America/Chicago:20260424T120000
DTEND;TZID=America/Chicago:20260424T180000
DTSTAMP:20260420T073901
CREATED:20260226T193605Z
LAST-MODIFIED:20260226T193608Z
UID:10003334-1777032000-1777053600@www.communityvoiceks.com
SUMMARY:Women's Fair
DESCRIPTION:Women’s Fair is Women’s FUN! Get ready to shop ’til you drop with all your favorite finds. Join the ultimate shopping bash\, cocktail in hand and excitement in the air. Discover over 200 exhibitors showcasing the hottest trends in fashion\, beauty & spa\, delicious food & drinks\, and stunning home décor. It’s the perfect Girls’ Day Out to indulge\, explore\, and score must-have goodies galore. \nTicket link: https://selectaseat.com/women26 
URL:https://www.communityvoiceks.com/event/womens-fair/2026-04-24/
LOCATION:Century II\, 225 W Douglas\, Wichita\, Kansas
ATTACH;FMTTYPE=image/png:https://www.communityvoiceks.com/wp-content/uploads/2026/02/WF_1400x1000.png
END:VEVENT
BEGIN:VEVENT
DTSTART;TZID=America/Chicago:20260424T190000
DTEND;TZID=America/Chicago:20260424T220000
DTSTAMP:20260420T073901
CREATED:20260318T192655Z
LAST-MODIFIED:20260318T192655Z
UID:10003405-1777057200-1777068000@www.communityvoiceks.com
SUMMARY:Kick-Off Party | Red Bull Dance Your Style Midwest USA Qualifier
DESCRIPTION:Let’s celebrate and get ready for another incredible Red Bull Dance Your Style weekend in Kansas City!\n\n\nIn this kick-off party at the Zhou B Art Center\, you’ll witness local dancers battle it out for the final spots of the main event\, while getting first access to Made Mobb’s exclusive merch line reveal\, drinks\, bites and art installations. \nPlease note: \nThis RSVP is only valid for the Friday 04/24 programming at Zhou B. Art Center.  \n \nThis RSVP does not cover your participation if you are participating in the prelim. If you are planning to participate\, you must sign up at the following link: HERE \nThis RSVP will also not serve as a ticket to the Red Bull Dance Your Style Midwest USA Qualifier on Saturday. If you’d like to purchase tickets for Saturday’s Qualifier event\, you can do so on the Kauffman Center’s website: HERE \n \nImportant links:Red Bull Terms of UseRed Bull Privacy PolicyRed Bull Registration & Ticket Policy
URL:https://www.communityvoiceks.com/event/kick-off-party-red-bull-dance-your-style-midwest-usa-qualifier/
LOCATION:Zhou B Art Center Kansas City\, 1801 East 18th Street\, Kansas City\, MO\, 64127\, United States
ATTACH;FMTTYPE=image/jpeg:https://www.communityvoiceks.com/wp-content/uploads/2026/03/d6900385ebf1a88e65dcbb7a8a0854a9.jpg
END:VEVENT
BEGIN:VEVENT
DTSTART;TZID=America/Chicago:20260425T090000
DTEND;TZID=America/Chicago:20260426T180000
DTSTAMP:20260420T073901
CREATED:20260226T193605Z
LAST-MODIFIED:20260226T193608Z
UID:10003335-1777107600-1777226400@www.communityvoiceks.com
SUMMARY:Women's Fair
DESCRIPTION:Women’s Fair is Women’s FUN! Get ready to shop ’til you drop with all your favorite finds. Join the ultimate shopping bash\, cocktail in hand and excitement in the air. Discover over 200 exhibitors showcasing the hottest trends in fashion\, beauty & spa\, delicious food & drinks\, and stunning home décor. It’s the perfect Girls’ Day Out to indulge\, explore\, and score must-have goodies galore. \nTicket link: https://selectaseat.com/women26 
URL:https://www.communityvoiceks.com/event/womens-fair/2026-04-25/
LOCATION:Century II\, 225 W Douglas\, Wichita\, Kansas
ATTACH;FMTTYPE=image/png:https://www.communityvoiceks.com/wp-content/uploads/2026/02/WF_1400x1000.png
END:VEVENT
BEGIN:VEVENT
DTSTART;TZID=America/Chicago:20260425T100000
DTEND;TZID=America/Chicago:20260425T180000
DTSTAMP:20260420T073901
CREATED:20260224T194349Z
LAST-MODIFIED:20260224T194352Z
UID:10003297-1777111200-1777140000@www.communityvoiceks.com
SUMMARY:Wyandotte County Ethnic Festival
DESCRIPTION:WyCo Ethnic Festival – Saturday\, April 25th\, 2026 10 – 6 p.m. at the George Meyn Community Center & WyCo History Museum both located at 126th and State Avenue in Wyandotte County Park\, Bonner Springs\, KS. 66012. Free admission and ample parking.  Great ethnic foods\, dancers\, live music and culture booths.  Two other events are taking place in WyCo park at the same time: an Irish Bowling Party in the park shelters adjacent to the festival as well as a Barnyard Babies Festival at the Agricultural Hall of Fame.  Plus\, come out and see where the new Chiefs stadium is going to be built right across the street from WyCo Park on 126th and State Avenue! A great family Saturday!    \nFor more info:  https://cvsmith64052.wixsite.com/wyandotte-county-eth 
URL:https://www.communityvoiceks.com/event/wyandotte-county-ethnic-festival/
LOCATION:KS
CATEGORIES:Festivals & Fairs
ATTACH;FMTTYPE=image/jpeg:https://www.communityvoiceks.com/wp-content/uploads/2026/02/WYCO-ETHNIC-FESTIVAL-flyer20.doc.jpg
END:VEVENT
BEGIN:VEVENT
DTSTART;TZID=America/Chicago:20260425T173000
DTEND;TZID=America/Chicago:20260425T220000
DTSTAMP:20260420T073901
CREATED:20260329T125216Z
LAST-MODIFIED:20260329T125219Z
UID:10003427-1777138200-1777154400@www.communityvoiceks.com
SUMMARY:A Night of Enchantment!
DESCRIPTION:Beta Kappa Omega Chapter of Alpha Kappa Alpha Sorority\, Incorporated \n\n\n\n \n\n\n\n You’re Invited to A Night of Enchantment! The Building Knowledge and Opportunities Foundation invites the Wichita community to an unforgettable evening of elegance\, inspiration\, and celebration at “A Night of Enchantment: The Pearl Ball.”
URL:https://www.communityvoiceks.com/event/a-night-of-enchantment/
LOCATION:WSU Metroplex\, 5025 E 29th\, Wichita\, Kansas
CATEGORIES:Charities & Causes,Food & Beverage,Performance & Visual Arts
ATTACH;FMTTYPE=image/jpeg:https://www.communityvoiceks.com/wp-content/uploads/2026/03/Beta-Kappa-Omega-C.jpg
END:VEVENT
BEGIN:VEVENT
DTSTART;TZID=America/Chicago:20260425T190000
DTEND;TZID=America/Chicago:20260425T233000
DTSTAMP:20260420T073901
CREATED:20260318T195035Z
LAST-MODIFIED:20260318T195039Z
UID:10003407-1777143600-1777159800@www.communityvoiceks.com
SUMMARY:Ivory Nights: An All White Soirée
DESCRIPTION:A grown & sexy experience curated for the 35+ crowd who still know how to have a good time. Come dressed in your cleanest all-white fit and vibe with beautiful Black energy\, great music\, and elevated party vibes. The soundtrack will be nothing but R&B and Hip-Hop classics from the 80s\, 90s\, 2000s\, and today. This is the night to reconnect with your party side\, link with your people\, and enjoy a classy turn-up. Pull up fresh\, leave with memories. 
URL:https://www.communityvoiceks.com/event/ivory-nights-an-all-white-soiree/
LOCATION:Holiday Inn Wichita East I-35\, an IHG Hotel\, 549 South Rock Road\, Wichita\, KS\, 67207\, United States
CATEGORIES:Business & Finance,Food & Beverage,Music,Performance & Visual Arts
ATTACH;FMTTYPE=image/webp:https://www.communityvoiceks.com/wp-content/uploads/2026/03/soree.webp
END:VEVENT
END:VCALENDAR