BEGIN:VCALENDAR
VERSION:2.0
PRODID:-//The Community Voice - ECPv6.15.20//NONSGML v1.0//EN
CALSCALE:GREGORIAN
METHOD:PUBLISH
X-ORIGINAL-URL:https://www.communityvoiceks.com
X-WR-CALDESC:Events for The Community Voice
REFRESH-INTERVAL;VALUE=DURATION:PT1H
X-Robots-Tag:noindex
X-PUBLISHED-TTL:PT1H
BEGIN:VTIMEZONE
TZID:America/Chicago
BEGIN:DAYLIGHT
TZOFFSETFROM:-0600
TZOFFSETTO:-0500
TZNAME:CDT
DTSTART:20250309T080000
END:DAYLIGHT
BEGIN:STANDARD
TZOFFSETFROM:-0500
TZOFFSETTO:-0600
TZNAME:CST
DTSTART:20251102T070000
END:STANDARD
BEGIN:DAYLIGHT
TZOFFSETFROM:-0600
TZOFFSETTO:-0500
TZNAME:CDT
DTSTART:20260308T080000
END:DAYLIGHT
BEGIN:STANDARD
TZOFFSETFROM:-0500
TZOFFSETTO:-0600
TZNAME:CST
DTSTART:20261101T070000
END:STANDARD
BEGIN:DAYLIGHT
TZOFFSETFROM:-0600
TZOFFSETTO:-0500
TZNAME:CDT
DTSTART:20270314T080000
END:DAYLIGHT
BEGIN:STANDARD
TZOFFSETFROM:-0500
TZOFFSETTO:-0600
TZNAME:CST
DTSTART:20271107T070000
END:STANDARD
END:VTIMEZONE
BEGIN:VEVENT
DTSTART;TZID=America/Chicago:20260529T080000
DTEND;TZID=America/Chicago:20260529T090000
DTSTAMP:20260420T150546
CREATED:20260420T182727Z
LAST-MODIFIED:20260420T182727Z
UID:10003471-1780041600-1780045200@www.communityvoiceks.com
SUMMARY:Admiral's Breakfast 2026
DESCRIPTION:Start your day right with great food and even better company at Admiral’s Breakfast 2026!\n\n\nAdmiral’s Breakfast 2026\nJoin us for the Admiral’s Breakfast 2026\, a fantastic in-person gathering where great food meets even better company. It’s the perfect chance to kickstart your day with delicious bites and friendly faces. Don’t miss out on this fun and casual morning event – come hungry and ready to mingle! \nPay ahead of time by following the ticketing insturctions or contact Karianne@wichitafestivals.com to RSVP. \n7:30am Check-In\, Breakfast 8am-9am.
URL:https://www.communityvoiceks.com/event/admirals-breakfast-2026/
LOCATION:400 W Waterman St\, 400 West Waterman Street\, Wichita\, KS\, 67202\, United States
ATTACH;FMTTYPE=image/jpeg:https://www.communityvoiceks.com/wp-content/uploads/2026/04/5934ade5607a77db416bda85cd8c8a89.jpg
END:VEVENT
BEGIN:VEVENT
DTSTART;TZID=America/Chicago:20260529T180000
DTEND;TZID=America/Chicago:20260529T220000
DTSTAMP:20260420T150546
CREATED:20260420T182125Z
LAST-MODIFIED:20260420T182125Z
UID:10003468-1780077600-1780092000@www.communityvoiceks.com
SUMMARY:Riverfest 2026 VIP: The Jacksons
DESCRIPTION:Get ready to groove up close with The Jacksons at Riverfest 2026 VIP—fun\, beats\, and good vibes all night!\n\n\nRiverfest 2026 VIP: The Jacksons\nThis is your chance to vibe with great music\, connect with fellow fans\, and soak in all the festival fun. Don’t miss out on this awesome event! \nVIP Ticket Information\n\nEnjoy exclusive front-row seating\, private bathrooms (Port-O-Loos)\, and a private bar with the purchase of a VIP ticket.\nVIP Section 1 access is located on the north side of the Crossland Construction Kennedy Plaza Stage\, 225 W Douglas Ave.\nVIP seating is first come\, first served. A seat in the VIP area is guaranteed; however\, seat selection is based on arrival time. Doors open 30 minutes before the show. (See red arrow for entrance directions.)\nPlease bring a valid ID to verify the name on the ticket purchase.\nA 2026 Riverfest button is required for entry.\n\n \nDoors open at 6:30pm
URL:https://www.communityvoiceks.com/event/riverfest-2026-vip-the-jacksons/
LOCATION:Kennedy Plaza\, 225 West Douglas Avenue\, Wichita\, KS\, 67202\, United States
ATTACH;FMTTYPE=image/jpeg:https://www.communityvoiceks.com/wp-content/uploads/2026/04/94b0e602a3530cedc1c680f8d9253849.jpg
END:VEVENT
BEGIN:VEVENT
DTSTART;TZID=America/Chicago:20260529T183000
DTEND;TZID=America/Chicago:20260529T200000
DTSTAMP:20260420T150546
CREATED:20260303T204820Z
LAST-MODIFIED:20260303T204823Z
UID:10003364-1780079400-1780084800@www.communityvoiceks.com
SUMMARY:Riverfest Sundown Parade
DESCRIPTION:Catch our team downtown as we celebrate Wichita\, the Ulrich Museum\, and the 250th birthday of the U.S. on our art-inspired float in the Riverfest 2026 Sundown Parade.
URL:https://www.communityvoiceks.com/event/riverfest-sundown-parade/
LOCATION:KS
ATTACH;FMTTYPE=image/jpeg:https://www.communityvoiceks.com/wp-content/uploads/2026/03/sundown-parade.jpg
END:VEVENT
BEGIN:VEVENT
DTSTART;TZID=America/Chicago:20260531T190000
DTEND;TZID=America/Chicago:20260531T230000
DTSTAMP:20260420T150546
CREATED:20260420T183759Z
LAST-MODIFIED:20260420T183759Z
UID:10003476-1780254000-1780268400@www.communityvoiceks.com
SUMMARY:One Night Stand: Kansas City Edition
DESCRIPTION:Come and enjoy a night of R&B and Soul with singer\, songwriter Joshua “Showtime” Williams.  Performing his catalog of songs including Nasty!
URL:https://www.communityvoiceks.com/event/one-night-stand-kansas-city-edition/
LOCATION:Lounge 42\, 4220 Leavenworth Road\, Kansas City\, KS\, 66104\, United States
ATTACH;FMTTYPE=image/jpeg:https://www.communityvoiceks.com/wp-content/uploads/2026/04/dafaaf869caafab490897d31aec7ec31.jpg
END:VEVENT
BEGIN:VEVENT
DTSTART;TZID=America/Chicago:20260603T120000
DTEND;TZID=America/Chicago:20260603T130000
DTSTAMP:20260420T150546
CREATED:20260420T181522Z
LAST-MODIFIED:20260420T181522Z
UID:10003463-1780488000-1780491600@www.communityvoiceks.com
SUMMARY:Lunch & Learn for Women Supporting Women
DESCRIPTION:Join us for a fun and informative Lunch & Learn session for women entrepreneurs like you.
URL:https://www.communityvoiceks.com/event/lunch-learn-for-women-supporting-women-2/
LOCATION:The Hive Coworking & Coffee\, N Broadway Ave\, Wichita\, KS\, USA\, 200 North Broadway Avenue\, #110\, Wichita\, KS\, 67202\, United States
ATTACH;FMTTYPE=image/jpeg:https://www.communityvoiceks.com/wp-content/uploads/2026/04/22d54455f7764cfa9f528229a9a84538.jpg
END:VEVENT
BEGIN:VEVENT
DTSTART;TZID=America/Chicago:20260606T150000
DTEND;TZID=America/Chicago:20260606T220000
DTSTAMP:20260420T150546
CREATED:20260129T015338Z
LAST-MODIFIED:20260129T015338Z
UID:10003278-1780758000-1780783200@www.communityvoiceks.com
SUMMARY:First Saturdays at Keystone: Artist & Vendor Market + Live Music
DESCRIPTION:A free monthly artist & vendor market with live music\, DJs\, food trucks\, and youth arts programming in the heart of Kansas City.
URL:https://www.communityvoiceks.com/event/first-saturdays-at-keystone-artist-vendor-market-live-music-7/
LOCATION:800 W 18th St\, 800 West 18th Street\, Kansas City\, MO\, 64108\, United States
ATTACH;FMTTYPE=image/jpeg:https://www.communityvoiceks.com/wp-content/uploads/2026/01/6081ebeced31afaa362ec8db0362cc32.jpg
END:VEVENT
BEGIN:VEVENT
DTSTART;TZID=America/Chicago:20260606T180000
DTEND;TZID=America/Chicago:20260606T220000
DTSTAMP:20260420T150546
CREATED:20260408T194556Z
LAST-MODIFIED:20260408T194600Z
UID:10003458-1780768800-1780783200@www.communityvoiceks.com
SUMMARY:Midwest R & B Fest
DESCRIPTION:Performing Live – Jacques\,  Kelly Price\, Lyfe Jennings& Rome \n\n\n\nTickets at selectaseat
URL:https://www.communityvoiceks.com/event/midwest-r-b-fest/
LOCATION:KS
CATEGORIES:Children, Youth & Families,Festivals & Fairs,Food & Beverage,Music,Performance & Visual Arts
ATTACH;FMTTYPE=image/jpeg:https://www.communityvoiceks.com/wp-content/uploads/2026/04/midwest-rb-fest.jpg
END:VEVENT
BEGIN:VEVENT
DTSTART;TZID=America/Chicago:20260607T190000
DTEND;TZID=America/Chicago:20260607T220000
DTSTAMP:20260420T150546
CREATED:20260129T015339Z
LAST-MODIFIED:20260129T015339Z
UID:10003279-1780858800-1780869600@www.communityvoiceks.com
SUMMARY:First Saturdays at Keystone: Artist & Vendor Market + Live Music
DESCRIPTION:A free monthly artist & vendor market with live music\, DJs\, food trucks\, and youth arts programming in the heart of Kansas City.
URL:https://www.communityvoiceks.com/event/first-saturdays-at-keystone-artist-vendor-market-live-music-8/
LOCATION:800 W 18th St\, 800 West 18th Street\, Kansas City\, MO\, 64108\, United States
ATTACH;FMTTYPE=image/jpeg:https://www.communityvoiceks.com/wp-content/uploads/2026/01/6081ebeced31afaa362ec8db0362cc32.jpg
END:VEVENT
BEGIN:VEVENT
DTSTART;TZID=America/Chicago:20260620T080000
DTEND;TZID=America/Chicago:20260620T233000
DTSTAMP:20260420T150546
CREATED:20260407T195833Z
LAST-MODIFIED:20260407T195835Z
UID:10003456-1781942400-1781998200@www.communityvoiceks.com
SUMMARY:The JuneteenthKC Heritage Festival
DESCRIPTION:The JuneteenthKC Heritage Festival is bringing a full day of music\, culture\, and community to the district\, and this MainStage moment is set to be one of the highlights of the summer. A historic artist\, a historic space\, and a crowd that knows how to show up. \n\n\n\nFree. Family-friendly. Lawn chairs encouraged. \n\n\n\nPull up early\, stay all day\, and be part of something that feels bigger than a concert. For full details\, visit juneteenthkc.com.
URL:https://www.communityvoiceks.com/event/the-juneteenthkc-heritage-festival/
LOCATION:18th & Vine Jazz District\, Kansas City\, MO
CATEGORIES:Children, Youth & Families,Festivals & Fairs,Food & Beverage,Music,Performance & Visual Arts
ATTACH;FMTTYPE=image/jpeg:https://www.communityvoiceks.com/wp-content/uploads/2026/04/COMMON.jpg
END:VEVENT
BEGIN:VEVENT
DTSTART;TZID=America/Chicago:20260620T090000
DTEND;TZID=America/Chicago:20260620T110000
DTSTAMP:20260420T150546
CREATED:20260318T192443Z
LAST-MODIFIED:20260318T192443Z
UID:10003402-1781946000-1781953200@www.communityvoiceks.com
SUMMARY:Mentoring at Keystone CoLAB
DESCRIPTION:Operation Code KC weekly mentoring meeting
URL:https://www.communityvoiceks.com/event/mentoring-at-keystone-colab-7/
LOCATION:800 E 18th St\, 800 East 18th Street\, Kansas City\, MO\, 64108\, United States
ATTACH;FMTTYPE=image/jpeg:https://www.communityvoiceks.com/wp-content/uploads/2025/07/a87861d226112c48cc1e257b3528a374.jpg
END:VEVENT
BEGIN:VEVENT
DTSTART;TZID=America/Chicago:20260701T120000
DTEND;TZID=America/Chicago:20260701T130000
DTSTAMP:20260420T150546
CREATED:20260420T181522Z
LAST-MODIFIED:20260420T181522Z
UID:10003464-1782907200-1782910800@www.communityvoiceks.com
SUMMARY:Lunch & Learn for Women Supporting Women
DESCRIPTION:Join us for a fun and informative Lunch & Learn session for women entrepreneurs like you.
URL:https://www.communityvoiceks.com/event/lunch-learn-for-women-supporting-women-3/
LOCATION:The Hive Coworking & Coffee\, N Broadway Ave\, Wichita\, KS\, USA\, 200 North Broadway Avenue\, #110\, Wichita\, KS\, 67202\, United States
ATTACH;FMTTYPE=image/jpeg:https://www.communityvoiceks.com/wp-content/uploads/2026/04/22d54455f7764cfa9f528229a9a84538.jpg
END:VEVENT
BEGIN:VEVENT
DTSTART;TZID=America/Chicago:20260704T150000
DTEND;TZID=America/Chicago:20260704T220000
DTSTAMP:20260420T150546
CREATED:20260129T015340Z
LAST-MODIFIED:20260129T015340Z
UID:10003280-1783177200-1783202400@www.communityvoiceks.com
SUMMARY:First Saturdays at Keystone: Artist & Vendor Market + Live Music
DESCRIPTION:A free monthly artist & vendor market with live music\, DJs\, food trucks\, and youth arts programming in the heart of Kansas City.
URL:https://www.communityvoiceks.com/event/first-saturdays-at-keystone-artist-vendor-market-live-music-9/
LOCATION:800 W 18th St\, 800 West 18th Street\, Kansas City\, MO\, 64108\, United States
ATTACH;FMTTYPE=image/jpeg:https://www.communityvoiceks.com/wp-content/uploads/2026/01/6081ebeced31afaa362ec8db0362cc32.jpg
END:VEVENT
BEGIN:VEVENT
DTSTART;TZID=America/Chicago:20260705T190000
DTEND;TZID=America/Chicago:20260705T220000
DTSTAMP:20260420T150546
CREATED:20260129T015341Z
LAST-MODIFIED:20260129T015341Z
UID:10003281-1783278000-1783288800@www.communityvoiceks.com
SUMMARY:First Saturdays at Keystone: Artist & Vendor Market + Live Music
DESCRIPTION:A free monthly artist & vendor market with live music\, DJs\, food trucks\, and youth arts programming in the heart of Kansas City.
URL:https://www.communityvoiceks.com/event/first-saturdays-at-keystone-artist-vendor-market-live-music-10/
LOCATION:800 W 18th St\, 800 West 18th Street\, Kansas City\, MO\, 64108\, United States
ATTACH;FMTTYPE=image/jpeg:https://www.communityvoiceks.com/wp-content/uploads/2026/01/6081ebeced31afaa362ec8db0362cc32.jpg
END:VEVENT
BEGIN:VEVENT
DTSTART;TZID=America/Chicago:20260718T090000
DTEND;TZID=America/Chicago:20260718T110000
DTSTAMP:20260420T150546
CREATED:20260318T192444Z
LAST-MODIFIED:20260318T192444Z
UID:10003403-1784365200-1784372400@www.communityvoiceks.com
SUMMARY:Mentoring at Keystone CoLAB
DESCRIPTION:Operation Code KC weekly mentoring meeting
URL:https://www.communityvoiceks.com/event/mentoring-at-keystone-colab-8/
LOCATION:800 E 18th St\, 800 East 18th Street\, Kansas City\, MO\, 64108\, United States
ATTACH;FMTTYPE=image/jpeg:https://www.communityvoiceks.com/wp-content/uploads/2025/07/a87861d226112c48cc1e257b3528a374.jpg
END:VEVENT
BEGIN:VEVENT
DTSTART;TZID=America/Chicago:20260802T190000
DTEND;TZID=America/Chicago:20260802T220000
DTSTAMP:20260420T150546
CREATED:20260129T015343Z
LAST-MODIFIED:20260129T015343Z
UID:10003282-1785697200-1785708000@www.communityvoiceks.com
SUMMARY:First Saturdays at Keystone: Artist & Vendor Market + Live Music
DESCRIPTION:A free monthly artist & vendor market with live music\, DJs\, food trucks\, and youth arts programming in the heart of Kansas City.
URL:https://www.communityvoiceks.com/event/first-saturdays-at-keystone-artist-vendor-market-live-music-11/
LOCATION:800 W 18th St\, 800 West 18th Street\, Kansas City\, MO\, 64108\, United States
ATTACH;FMTTYPE=image/jpeg:https://www.communityvoiceks.com/wp-content/uploads/2026/01/6081ebeced31afaa362ec8db0362cc32.jpg
END:VEVENT
BEGIN:VEVENT
DTSTART;TZID=America/Chicago:20260805T120000
DTEND;TZID=America/Chicago:20260805T130000
DTSTAMP:20260420T150546
CREATED:20260420T181523Z
LAST-MODIFIED:20260420T181523Z
UID:10003465-1785931200-1785934800@www.communityvoiceks.com
SUMMARY:Lunch & Learn for Women Supporting Women
DESCRIPTION:Join us for a fun and informative Lunch & Learn session for women entrepreneurs like you.
URL:https://www.communityvoiceks.com/event/lunch-learn-for-women-supporting-women-4/
LOCATION:The Hive Coworking & Coffee\, N Broadway Ave\, Wichita\, KS\, USA\, 200 North Broadway Avenue\, #110\, Wichita\, KS\, 67202\, United States
ATTACH;FMTTYPE=image/jpeg:https://www.communityvoiceks.com/wp-content/uploads/2026/04/22d54455f7764cfa9f528229a9a84538.jpg
END:VEVENT
BEGIN:VEVENT
DTSTART;TZID=America/Chicago:20260806T193000
DTEND;TZID=America/Chicago:20260806T220000
DTSTAMP:20260420T150546
CREATED:20260404T142138Z
LAST-MODIFIED:20260404T142141Z
UID:10003439-1786044600-1786053600@www.communityvoiceks.com
SUMMARY:Kauffman Center Presents
DESCRIPTION:Herbie Hancock \n\n\n\n\n\nNow in the seventh decade of his professional life\, Herbie Hancock remains where he has always been: at the forefront of world culture\, technology\, business and music. Herbie Hancock has been an integral part of every popular music movement since the 1960s. As a member of the Miles Davis Quintet that pioneered a groundbreaking sound in jazz\, he also developed new approaches on his own recordings\, followed by his work in the 70s — with record-breaking albums such as “Headhunters” — that combined electric jazz with funk and rock in an innovative style that continues to influence contemporary music. 
URL:https://www.communityvoiceks.com/event/kauffman-center-presents/
LOCATION:Kauffman Center for the Performing Arts\, 1601 Broadway Blvd\, Kansas City\, Missouri
CATEGORIES:Children, Youth & Families,Music,Performance & Visual Arts
ATTACH;FMTTYPE=image/jpeg:https://www.communityvoiceks.com/wp-content/uploads/2026/04/HERBIE-HA.jpg
END:VEVENT
BEGIN:VEVENT
DTSTART;TZID=America/Chicago:20260815T090000
DTEND;TZID=America/Chicago:20260815T110000
DTSTAMP:20260420T150546
CREATED:20260318T192445Z
LAST-MODIFIED:20260318T192445Z
UID:10003404-1786784400-1786791600@www.communityvoiceks.com
SUMMARY:Mentoring at Keystone CoLAB
DESCRIPTION:Operation Code KC weekly mentoring meeting
URL:https://www.communityvoiceks.com/event/mentoring-at-keystone-colab-9/
LOCATION:800 E 18th St\, 800 East 18th Street\, Kansas City\, MO\, 64108\, United States
ATTACH;FMTTYPE=image/jpeg:https://www.communityvoiceks.com/wp-content/uploads/2025/07/a87861d226112c48cc1e257b3528a374.jpg
END:VEVENT
END:VCALENDAR