BEGIN:VCALENDAR
VERSION:2.0
PRODID:-//The Community Voice - ECPv6.15.20//NONSGML v1.0//EN
CALSCALE:GREGORIAN
METHOD:PUBLISH
X-WR-CALNAME:The Community Voice
X-ORIGINAL-URL:https://www.communityvoiceks.com
X-WR-CALDESC:Events for The Community Voice
REFRESH-INTERVAL;VALUE=DURATION:PT1H
X-Robots-Tag:noindex
X-PUBLISHED-TTL:PT1H
BEGIN:VTIMEZONE
TZID:America/Chicago
BEGIN:DAYLIGHT
TZOFFSETFROM:-0600
TZOFFSETTO:-0500
TZNAME:CDT
DTSTART:20250309T080000
END:DAYLIGHT
BEGIN:STANDARD
TZOFFSETFROM:-0500
TZOFFSETTO:-0600
TZNAME:CST
DTSTART:20251102T070000
END:STANDARD
BEGIN:DAYLIGHT
TZOFFSETFROM:-0600
TZOFFSETTO:-0500
TZNAME:CDT
DTSTART:20260308T080000
END:DAYLIGHT
BEGIN:STANDARD
TZOFFSETFROM:-0500
TZOFFSETTO:-0600
TZNAME:CST
DTSTART:20261101T070000
END:STANDARD
BEGIN:DAYLIGHT
TZOFFSETFROM:-0600
TZOFFSETTO:-0500
TZNAME:CDT
DTSTART:20270314T080000
END:DAYLIGHT
BEGIN:STANDARD
TZOFFSETFROM:-0500
TZOFFSETTO:-0600
TZNAME:CST
DTSTART:20271107T070000
END:STANDARD
END:VTIMEZONE
BEGIN:VEVENT
DTSTART;TZID=America/Chicago:20260329T103000
DTEND;TZID=America/Chicago:20260329T143000
DTSTAMP:20260423T120607
CREATED:20260322T231305Z
LAST-MODIFIED:20260322T231307Z
UID:10003413-1774780200-1774794600@www.communityvoiceks.com
SUMMARY:Gospel Brunch
DESCRIPTION:Something NEW is happening in our city!  \n\n\n\nJoin us for Gospel Brunch at… \n\n\n\nGilley’s | 1500 E 77th St N | Park City\, KS 67147 \n\n\n\nA soul‑stirring Sunday experience filled with great food and powerful music! \n\n\n\nLive Music Start at 1:00PM “Sharp” \n\n\n\nCome enjoy a delicious brunch while being uplifted by incredible gospel music featuring singers and musicians from all over the city. Bring your family\, friends\, and come ready to eat\, sing\, and rejoice! \n\n\n\n Bruch Prices: \n\n\n\n• Adults: $27.99 \n\n\n\n• Seniors (65+): $24.99 \n\n\n\n• Kids (6–12): $13.99 \n\n\n\n• Children 5 & under: FREE \n\n\n\n Good food | Great music | Amazing Fellowship.
URL:https://www.communityvoiceks.com/event/gospel-brunch/
LOCATION:Gilley’s Casino\, 1500 E 77th St N\, Park City\, Kansas\, 67147
CATEGORIES:Food & Beverage,Religious Events
ATTACH;FMTTYPE=image/jpeg:https://www.communityvoiceks.com/wp-content/uploads/2026/03/gospel.jpg
END:VEVENT
BEGIN:VEVENT
DTSTART;TZID=America/Chicago:20260403T163000
DTEND;TZID=America/Chicago:20260403T170000
DTSTAMP:20260423T120607
CREATED:20260129T030707Z
LAST-MODIFIED:20260129T030710Z
UID:10003287-1775233800-1775235600@www.communityvoiceks.com
SUMMARY:Cries From the Cross
DESCRIPTION:PACT is Hosting it’s Annual Good Friday Worship Encounter \n\n\n\nGuest Preacher: Dr. F. Bernard Mitchell\, AKA “Mississippi Mitch”
URL:https://www.communityvoiceks.com/event/cries-from-the-cross/
LOCATION:Calvary Baptist Church\, 2653 N Hillside\, Wichita\, Kansas\, 67219
CATEGORIES:Children, Youth & Families,Religious Events
ATTACH;FMTTYPE=image/jpeg:https://www.communityvoiceks.com/wp-content/uploads/2026/01/CALVARY.jpg
END:VEVENT
BEGIN:VEVENT
DTSTART;TZID=America/Chicago:20260403T190000
DTEND;TZID=America/Chicago:20260403T210000
DTSTAMP:20260423T120607
CREATED:20260322T230630Z
LAST-MODIFIED:20260322T230633Z
UID:10003412-1775242800-1775250000@www.communityvoiceks.com
SUMMARY:FIRE ON FRIDAY: GOOD FRIDAY EDITION
DESCRIPTION:Revivalist Pastor Rhonda Kingwood – Pastor Don Crowley -Pator Jason Moore & Rev Dr. Victor McCullough Guest Psalmist: Pastor Desmond Pringle Worship Leader – Pastor Christyn Gunter
URL:https://www.communityvoiceks.com/event/fire-on-friday-good-friday-edition/
LOCATION:Kansas
CATEGORIES:Children, Youth & Families,Religious Events
ATTACH;FMTTYPE=image/jpeg:https://www.communityvoiceks.com/wp-content/uploads/2026/03/fire.jpg
END:VEVENT
END:VCALENDAR