BEGIN:VCALENDAR
VERSION:2.0
PRODID:-//The Community Voice - ECPv6.15.20//NONSGML v1.0//EN
CALSCALE:GREGORIAN
METHOD:PUBLISH
X-WR-CALNAME:The Community Voice
X-ORIGINAL-URL:https://www.communityvoiceks.com
X-WR-CALDESC:Events for The Community Voice
REFRESH-INTERVAL;VALUE=DURATION:PT1H
X-Robots-Tag:noindex
X-PUBLISHED-TTL:PT1H
BEGIN:VTIMEZONE
TZID:America/Chicago
BEGIN:DAYLIGHT
TZOFFSETFROM:-0600
TZOFFSETTO:-0500
TZNAME:CDT
DTSTART:20240310T080000
END:DAYLIGHT
BEGIN:STANDARD
TZOFFSETFROM:-0500
TZOFFSETTO:-0600
TZNAME:CST
DTSTART:20241103T070000
END:STANDARD
BEGIN:DAYLIGHT
TZOFFSETFROM:-0600
TZOFFSETTO:-0500
TZNAME:CDT
DTSTART:20250309T080000
END:DAYLIGHT
BEGIN:STANDARD
TZOFFSETFROM:-0500
TZOFFSETTO:-0600
TZNAME:CST
DTSTART:20251102T070000
END:STANDARD
BEGIN:DAYLIGHT
TZOFFSETFROM:-0600
TZOFFSETTO:-0500
TZNAME:CDT
DTSTART:20260308T080000
END:DAYLIGHT
BEGIN:STANDARD
TZOFFSETFROM:-0500
TZOFFSETTO:-0600
TZNAME:CST
DTSTART:20261101T070000
END:STANDARD
BEGIN:DAYLIGHT
TZOFFSETFROM:-0600
TZOFFSETTO:-0500
TZNAME:CDT
DTSTART:20270314T080000
END:DAYLIGHT
BEGIN:STANDARD
TZOFFSETFROM:-0500
TZOFFSETTO:-0600
TZNAME:CST
DTSTART:20271107T070000
END:STANDARD
END:VTIMEZONE
BEGIN:VEVENT
DTSTART;TZID=America/Chicago:20251214T160000
DTEND;TZID=America/Chicago:20251214T180000
DTSTAMP:20260421T131343
CREATED:20251118T211107Z
LAST-MODIFIED:20251118T211110Z
UID:10002695-1765728000-1765735200@www.communityvoiceks.com
SUMMARY:THE DENNIS FAMILY 42ND ANNUAL CHRISTMAS CONCERT
DESCRIPTION:Our present Isaiah 6:9 –  His presence John 1:14
URL:https://www.communityvoiceks.com/event/the-dennis-family-42nd-annual-christmas-concert/
LOCATION:St James Missionary Baptist Church\, 1350 N Ash\, Wichita\, Kansas
CATEGORIES:Charities & Causes,Children, Youth & Families,Performance & Visual Arts,Religious Events
ATTACH;FMTTYPE=image/jpeg:https://www.communityvoiceks.com/wp-content/uploads/2025/11/DENNIS-FAMILY.jpg
END:VEVENT
BEGIN:VEVENT
DTSTART;TZID=America/Chicago:20251219T190000
DTEND;TZID=America/Chicago:20251219T210000
DTSTAMP:20260421T131343
CREATED:20251203T213855Z
LAST-MODIFIED:20251203T213857Z
UID:10002717-1766170800-1766178000@www.communityvoiceks.com
SUMMARY:Christmas Fun Game Night
DESCRIPTION:Eden Fellowship Ministries Music Dept presents A Yes That Changed the World fun night.  Praise\, Worship\, Laughter & Family.  Speakers Evangilist Carmen Moore & Ja-Lynn Blackwell
URL:https://www.communityvoiceks.com/event/christmas-fun-game-night/
LOCATION:Kansas
CATEGORIES:Children, Youth & Families,Food & Beverage,Religious Events
ATTACH;FMTTYPE=image/jpeg:https://www.communityvoiceks.com/wp-content/uploads/2025/12/FUN-NIGHT.jpg
END:VEVENT
BEGIN:VEVENT
DTSTART;TZID=America/Chicago:20251221T160000
DTEND;TZID=America/Chicago:20251221T170000
DTSTAMP:20260421T131343
CREATED:20251218T011251Z
LAST-MODIFIED:20251218T011254Z
UID:10003154-1766332800-1766336400@www.communityvoiceks.com
SUMMARY:OH COME LET US ADORE HIM: A CHRISTMAS MUSICAL
DESCRIPTION:Presented by the James and Shirley Davis family of Oklahoma City OK \n\n\n\nFeaturing local family ministries and guest artists \n\n\n\n bring a friend and celebrate.
URL:https://www.communityvoiceks.com/event/oh-come-let-us-adore-him-a-christmas-musical/
LOCATION:Kansas
CATEGORIES:Children, Youth & Families,Holiday Event,Religious Events
ATTACH;FMTTYPE=image/jpeg:https://www.communityvoiceks.com/wp-content/uploads/2025/12/DAVIS.jpg
END:VEVENT
BEGIN:VEVENT
DTSTART;TZID=America/Chicago:20251229T190000
DTEND;TZID=America/Chicago:20260102T210000
DTSTAMP:20260421T131343
CREATED:20251211T214650Z
LAST-MODIFIED:20251211T214654Z
UID:10003107-1767034800-1767387600@www.communityvoiceks.com
SUMMARY:Dirk Chaney Memorial Workshop & Concert
DESCRIPTION:36th Annual Gospel Music Workshop for the entire community!  December 29th – January 1st\, nightly at 7pm.  Concert is Friday\, January 2nd\, 2026 at 7p – St. Andrews Missionary Baptist Church\, 3901 E. 25th Street North\, Wichita\, KS 67220. Registration for the workshop is $25.00\, but the concert is FREE!
URL:https://www.communityvoiceks.com/event/dirk-chaney-memorial-workshop-concert/
LOCATION:St. Andrews Missionary Baptist Church\, 3901 E. 25th Street North\, Wichita\, KS\, 67220\, United States
CATEGORIES:Religious Events
ATTACH;FMTTYPE=image/jpeg:https://www.communityvoiceks.com/wp-content/uploads/2025/12/DCMW-2025-scaled.jpg
END:VEVENT
END:VCALENDAR