BEGIN:VCALENDAR
VERSION:2.0
PRODID:-//The Community Voice - ECPv6.15.20//NONSGML v1.0//EN
CALSCALE:GREGORIAN
METHOD:PUBLISH
X-WR-CALNAME:The Community Voice
X-ORIGINAL-URL:https://www.communityvoiceks.com
X-WR-CALDESC:Events for The Community Voice
REFRESH-INTERVAL;VALUE=DURATION:PT1H
X-Robots-Tag:noindex
X-PUBLISHED-TTL:PT1H
BEGIN:VTIMEZONE
TZID:America/Chicago
BEGIN:DAYLIGHT
TZOFFSETFROM:-0600
TZOFFSETTO:-0500
TZNAME:CDT
DTSTART:20250309T080000
END:DAYLIGHT
BEGIN:STANDARD
TZOFFSETFROM:-0500
TZOFFSETTO:-0600
TZNAME:CST
DTSTART:20251102T070000
END:STANDARD
BEGIN:DAYLIGHT
TZOFFSETFROM:-0600
TZOFFSETTO:-0500
TZNAME:CDT
DTSTART:20260308T080000
END:DAYLIGHT
BEGIN:STANDARD
TZOFFSETFROM:-0500
TZOFFSETTO:-0600
TZNAME:CST
DTSTART:20261101T070000
END:STANDARD
BEGIN:DAYLIGHT
TZOFFSETFROM:-0600
TZOFFSETTO:-0500
TZNAME:CDT
DTSTART:20270314T080000
END:DAYLIGHT
BEGIN:STANDARD
TZOFFSETFROM:-0500
TZOFFSETTO:-0600
TZNAME:CST
DTSTART:20271107T070000
END:STANDARD
END:VTIMEZONE
BEGIN:VEVENT
DTSTART;TZID=America/Chicago:20260417T170000
DTEND;TZID=America/Chicago:20260417T170000
DTSTAMP:20260422T054557
CREATED:20260221T055152Z
LAST-MODIFIED:20260221T055154Z
UID:10003305-1776445200-1776445200@www.communityvoiceks.com
SUMMARY:Elisabeth's Lounge Presents Southern Soul
DESCRIPTION:Wichita’s biggest line dance event.  Southern Soul Rodeo FEATURING BREEZE & DJ F.A.M.E.
URL:https://www.communityvoiceks.com/event/elisabeths-lounge-presents-southern-soul/
LOCATION:Elisabeth’s Lounge\, 6160 East 21st Street North\, Wichita\, KS\, 67208\, United States
CATEGORIES:Music,Performance & Visual Arts
ATTACH;FMTTYPE=image/jpeg:https://www.communityvoiceks.com/wp-content/uploads/2026/02/ELISABETHS.jpg
END:VEVENT
END:VCALENDAR