BEGIN:VCALENDAR
VERSION:2.0
PRODID:-//The Community Voice - ECPv6.15.20//NONSGML v1.0//EN
CALSCALE:GREGORIAN
METHOD:PUBLISH
X-WR-CALNAME:The Community Voice
X-ORIGINAL-URL:https://www.communityvoiceks.com
X-WR-CALDESC:Events for The Community Voice
REFRESH-INTERVAL;VALUE=DURATION:PT1H
X-Robots-Tag:noindex
X-PUBLISHED-TTL:PT1H
BEGIN:VTIMEZONE
TZID:America/Chicago
BEGIN:DAYLIGHT
TZOFFSETFROM:-0600
TZOFFSETTO:-0500
TZNAME:CDT
DTSTART:20250309T080000
END:DAYLIGHT
BEGIN:STANDARD
TZOFFSETFROM:-0500
TZOFFSETTO:-0600
TZNAME:CST
DTSTART:20251102T070000
END:STANDARD
BEGIN:DAYLIGHT
TZOFFSETFROM:-0600
TZOFFSETTO:-0500
TZNAME:CDT
DTSTART:20260308T080000
END:DAYLIGHT
BEGIN:STANDARD
TZOFFSETFROM:-0500
TZOFFSETTO:-0600
TZNAME:CST
DTSTART:20261101T070000
END:STANDARD
BEGIN:DAYLIGHT
TZOFFSETFROM:-0600
TZOFFSETTO:-0500
TZNAME:CDT
DTSTART:20270314T080000
END:DAYLIGHT
BEGIN:STANDARD
TZOFFSETFROM:-0500
TZOFFSETTO:-0600
TZNAME:CST
DTSTART:20271107T070000
END:STANDARD
END:VTIMEZONE
BEGIN:VEVENT
DTSTART;TZID=America/Chicago:20260515T000000
DTEND;TZID=America/Chicago:20260515T000100
DTSTAMP:20260422T024612
CREATED:20260420T193027Z
LAST-MODIFIED:20260420T193030Z
UID:10003479-1778803200-1778803260@www.communityvoiceks.com
SUMMARY:STRANGE Wid' It Tour 2026: TECH N9NE and E-40
DESCRIPTION:Out of the Midwest\, Tech N9ne broke all of the rules\, subverted expectations\, dumbfounded the system\, and set a precedent for hip-hop and independent music often imitated (but never duplicated) by generations to follow. At the helm of his own Strange Music proudly based in Kansas City\, MO since 2000\, he has personally notched four platinum singles\, eleven gold singles\, and two gold albums. As a whole\, the Strange Music catalog also houses 23 RIAA gold and platinum records. The company’s Kansas City headquarters consists of six buildings: Strange Music (label offices)\, Strangeland (recording studios\, soundstage)\, Strange World (merchandise manufacturing plant)\, Strange Box (vehicles)\, Strange Carwash\, and Strange Works (construction company). Representing the underground\, Tech is practically “a regular” on the Forbes “Cash Kings” list. Beyond gracing the cover of XXL and the stage of ABC’s Jimmy Kimmel Live!\, he wound up on the playlist of none other than Sir Elton John and performing to 1 million-plus at the parade for the Kansas City Chiefs’ Super Bowl victory. He’s the only artist (on this planet) who has collaborated with Eminem\, Tupac\, Lil Wayne\, and Kendrick Lamar as well as The Doors\, Slipknot\, System of a Down\, Deftones\, Jelly Roll\, and MGK. He holds down the record for “most Top 10 albums on the Billboard Rap Chart” and staked a spot in the Top 5 of the Billboard 200 four times. On top of a thriving self-sufficient merchandising empire\, he notably joined forces with Kansas City’s own Boulevard Brewery for his craft beer Bou Lou. After three decades in the game\, the rapper landed “the biggest hit of his career” with 2021’s “Face Off” featuring Joey Cool\, King Iso\, and none other than megastar Dwayne “The Rock” Johnson. In unprecedented fashion\, he ignited TikTok\, generated a quarter-of-a-billion streams\, and incited a frenzy from Variety\, People\, TMZ\, NY Post\, Today\, and Entertainment Weekly. Tech N9ne continued his journey in 2023 with the acclaimed BLISS and more to come. \n\n\n\nEarl “E-40” Stevens is a multiplatinum recording artist\, actor\, entrepreneur and New York Times best-selling author that hails from Vallejo\, California. Over the course of his 30+ year career in the music industry\, E-40 has firmly solidified his status as a living hip-hop legend\, having released several multiplatinum and gold studio albums\, mixtapes\, collaborations and hit singles\, including “U and Dat\,” “Tell Me When To Go\,” “Choices (Yup)\,” and “Function\,” among countless others. 
URL:https://www.communityvoiceks.com/event/strange-wid-it-tour-2026-tech-n9ne-and-e-40/
CATEGORIES:Music,Performance & Visual Arts
ATTACH;FMTTYPE=image/jpeg:https://www.communityvoiceks.com/wp-content/uploads/2026/04/techN9.jpg
END:VEVENT
BEGIN:VEVENT
DTSTART;TZID=America/Chicago:20260515T170000
DTEND;TZID=America/Chicago:20260515T230000
DTSTAMP:20260422T024612
CREATED:20260329T134826Z
LAST-MODIFIED:20260329T134829Z
UID:10003430-1778864400-1778886000@www.communityvoiceks.com
SUMMARY:BLACK WALL STREET RALLY FRIDAY LINEUP
DESCRIPTION:Get ready for a FULL evening of music\, energy\, and culture in the heart of Greenwood!  \n\n\n\nBRANOOFUNK LIVE \n\n\n\nFeel the rhythm with this electrifying DJ & drummer experience that will have the crowd moving from start to finish! \n\n\n\nMay 15 \n\n\n\n5:00 PM – 6:45 PM \n\n\n\nMS. VAL & THE WISEMAN \n\n\n\nBringing powerful vocals\, live instrumentation\, and unforgettable vibes to close out the night! \n\n\n\n May 15 \n\n\n\n7:00 PM \n\n\n\n Greenwood & Archer Community Stage \n\n\n\n Historic Black Wall Street – Tulsa\, OK \n\n\n\nPull up early\, stay late\, and experience the sound\, the culture\, and the celebration of community. \n\n\n\nwww.blackwallstreetrally.com
URL:https://www.communityvoiceks.com/event/black-wall-street-rally-friday-lineup/
CATEGORIES:Children, Youth & Families,Festivals & Fairs,Food & Beverage,movies & Speeches,Music,Performance & Visual Arts
ATTACH;FMTTYPE=image/jpeg:https://www.communityvoiceks.com/wp-content/uploads/2026/03/BWS.jpg
END:VEVENT
END:VCALENDAR