BEGIN:VCALENDAR
VERSION:2.0
PRODID:-//The Community Voice - ECPv6.15.20//NONSGML v1.0//EN
CALSCALE:GREGORIAN
METHOD:PUBLISH
X-ORIGINAL-URL:https://www.communityvoiceks.com
X-WR-CALDESC:Events for The Community Voice
REFRESH-INTERVAL;VALUE=DURATION:PT1H
X-Robots-Tag:noindex
X-PUBLISHED-TTL:PT1H
BEGIN:VTIMEZONE
TZID:America/Chicago
BEGIN:DAYLIGHT
TZOFFSETFROM:-0600
TZOFFSETTO:-0500
TZNAME:CDT
DTSTART:20250309T080000
END:DAYLIGHT
BEGIN:STANDARD
TZOFFSETFROM:-0500
TZOFFSETTO:-0600
TZNAME:CST
DTSTART:20251102T070000
END:STANDARD
BEGIN:DAYLIGHT
TZOFFSETFROM:-0600
TZOFFSETTO:-0500
TZNAME:CDT
DTSTART:20260308T080000
END:DAYLIGHT
BEGIN:STANDARD
TZOFFSETFROM:-0500
TZOFFSETTO:-0600
TZNAME:CST
DTSTART:20261101T070000
END:STANDARD
BEGIN:DAYLIGHT
TZOFFSETFROM:-0600
TZOFFSETTO:-0500
TZNAME:CDT
DTSTART:20270314T080000
END:DAYLIGHT
BEGIN:STANDARD
TZOFFSETFROM:-0500
TZOFFSETTO:-0600
TZNAME:CST
DTSTART:20271107T070000
END:STANDARD
END:VTIMEZONE
BEGIN:VEVENT
DTSTART;TZID=America/Chicago:20260510T110000
DTEND;TZID=America/Chicago:20260510T160000
DTSTAMP:20260421T043507
CREATED:20260420T181640Z
LAST-MODIFIED:20260420T181640Z
UID:10003466-1778410800-1778428800@www.communityvoiceks.com
SUMMARY:Mama Market : A Mothers Day Pop Up Event
DESCRIPTION:Celebrate moms with unique gifts\, tasty treats\, and good vibes at this fun pop-up just for Mother’s Day!
URL:https://www.communityvoiceks.com/event/mama-market-a-mothers-day-pop-up-event/
LOCATION:102 St Francis\, 102 Saint Francis\, Wichita\, KS\, 67202\, United States
ATTACH;FMTTYPE=image/jpeg:https://www.communityvoiceks.com/wp-content/uploads/2026/04/f962b7757b9b53785427d3b51553a116.jpg
END:VEVENT
BEGIN:VEVENT
DTSTART;TZID=America/Chicago:20260510T150000
DTEND;TZID=America/Chicago:20260510T163000
DTSTAMP:20260421T043507
CREATED:20260420T181711Z
LAST-MODIFIED:20260420T181711Z
UID:10003467-1778425200-1778430600@www.communityvoiceks.com
SUMMARY:Is Humanity Reaching a Spiritual Tipping Point? (Free Event)
DESCRIPTION:Get a ticket to let us know you are coming!\n\n\nCan you turn on the tv or check your news feed anymore without being bombarded with images and headlines of chaos and struggle? Could it be that humanity is facing not just material challenges\, but that we are experiencing the growing pains of living through a spiritual age of transition\, a crucial step in humanity’s pathway towards progress? \n \nEverywhere we look we seem to be faced with the growing fractures in our society\, but lacking in a true understanding of why or a clear vision to see us through. That the presence of chaos in the world around us is growing seems inevitable. And yet the existing systems meant to mitigate that chaos no longer seem able to heal the growing divisions that are threatening the status quo. But is that a bad thing? Or could this chaos actually be shedding light on the need for a new way forward? \n \nCome join a different kind of conversation – one that welcomes every perspective in a search for the truths that unite us all – as we discuss the spiritual perspective offered by the Bahá’í Teachings on the greater forces that emerge out of this chaos. Join us for a lively discussion as we explore the realities of our rapidly changing society\, the spiritual tipping point we are now entering\, and what we can do to help us all emerge as a stronger and more unified human race. \n \n“The Earth is but one country and mankind its citizens.” – Bahá’í Teachings \n \n*** This event is free and open to all regardless of background or belief. Donations will not be accepted.
URL:https://www.communityvoiceks.com/event/is-humanity-reaching-a-spiritual-tipping-point-free-event/
LOCATION:Wichita Public Library – Evergreen Branch\, 2601 North Arkansas Avenue\, Wichita\, KS\, 67204\, United States
ATTACH;FMTTYPE=image/jpeg:https://www.communityvoiceks.com/wp-content/uploads/2026/04/8c76947236ddbc9d1f951608c0dd8e45.jpg
END:VEVENT
END:VCALENDAR