BEGIN:VCALENDAR
VERSION:2.0
PRODID:-//The Community Voice - ECPv6.15.20//NONSGML v1.0//EN
CALSCALE:GREGORIAN
METHOD:PUBLISH
X-WR-CALNAME:The Community Voice
X-ORIGINAL-URL:https://www.communityvoiceks.com
X-WR-CALDESC:Events for The Community Voice
REFRESH-INTERVAL;VALUE=DURATION:PT1H
X-Robots-Tag:noindex
X-PUBLISHED-TTL:PT1H
BEGIN:VTIMEZONE
TZID:America/Chicago
BEGIN:DAYLIGHT
TZOFFSETFROM:-0600
TZOFFSETTO:-0500
TZNAME:CDT
DTSTART:20250309T080000
END:DAYLIGHT
BEGIN:STANDARD
TZOFFSETFROM:-0500
TZOFFSETTO:-0600
TZNAME:CST
DTSTART:20251102T070000
END:STANDARD
BEGIN:DAYLIGHT
TZOFFSETFROM:-0600
TZOFFSETTO:-0500
TZNAME:CDT
DTSTART:20260308T080000
END:DAYLIGHT
BEGIN:STANDARD
TZOFFSETFROM:-0500
TZOFFSETTO:-0600
TZNAME:CST
DTSTART:20261101T070000
END:STANDARD
BEGIN:DAYLIGHT
TZOFFSETFROM:-0600
TZOFFSETTO:-0500
TZNAME:CDT
DTSTART:20270314T080000
END:DAYLIGHT
BEGIN:STANDARD
TZOFFSETFROM:-0500
TZOFFSETTO:-0600
TZNAME:CST
DTSTART:20271107T070000
END:STANDARD
END:VTIMEZONE
BEGIN:VEVENT
DTSTART;TZID=America/Chicago:20260417T100000
DTEND;TZID=America/Chicago:20260419T190000
DTSTAMP:20260422T055956
CREATED:20260318T200244Z
LAST-MODIFIED:20260318T200247Z
UID:10003409-1776420000-1776625200@www.communityvoiceks.com
SUMMARY:WICHITA FOOD \, ART AND CRAFT VENDOR SHOW
DESCRIPTION:WHY YOU SHOULD ATTEND \n\n\n\nLocal Flavors: Feast on a variety of tasty eats from top local food vendors. \n\n\n\nCreative Hub: Browse and buy cool art and unique\, handmade crafts. \n\n\n\nCommunity Fun: Relax and enjoy the atmosphere in the beautiful Naftzger Park. \n\n\n\nCONTACT & ENQUIRIES Tasty Eats • Cool Art • Unique Crafts \n\n\n\nFor vendor registration\, sponsorship opportunities\, or general questions\, please contact:
URL:https://www.communityvoiceks.com/event/wichita-food-art-and-craft-vendor-show/
LOCATION:Naftzger Park\, 601 East Douglas Avenue\, Wichita\, KS\, 67202\, United States
CATEGORIES:Festivals & Fairs,Food & Beverage
ATTACH;FMTTYPE=image/webp:https://www.communityvoiceks.com/wp-content/uploads/2026/03/naftzger.webp
END:VEVENT
BEGIN:VEVENT
DTSTART;TZID=America/Chicago:20260417T100000
DTEND;TZID=America/Chicago:20260419T190000
DTSTAMP:20260422T055956
CREATED:20260406T184126Z
LAST-MODIFIED:20260406T184126Z
UID:10003446-1776420000-1776625200@www.communityvoiceks.com
SUMMARY:WICHITA FOOD \, ART AND CRAFT VENDOR SHOW
DESCRIPTION:Come enjoy tasty eats\, cool art\, and unique crafts at the Wichita Food\, Art & Craft Vendor Show!\n\n\nWICHITA FOOD\, ART AND CRAFT VENDOR SHOW\nTasty Eats • Cool Art • Unique Crafts \nEVENT DETAILS \n📅 DATE: April 17 – April 19 \n⏰ TIME: Friday at 10:00 AM – Sunday at 7:00 PM CDT \n📍 LOCATION: Naftzger Park \n🗺️ ADDRESS: 601 East Douglas Avenue\, Wichita\, KS 67202 \nWHY YOU SHOULD ATTEND \nLocal Flavors: Feast on a variety of tasty eats from top local food vendors. \nCreative Hub: Browse and buy cool art and unique\, handmade crafts. \nCommunity Fun: Relax and enjoy the atmosphere in the beautiful Naftzger Park. \nCONTACT & ENQUIRIES \nFor vendor registration\, sponsorship opportunities\, or general questions\, please contact: \n📧 maepenelope985@gmail.com\nWELCOME
URL:https://www.communityvoiceks.com/event/wichita-food-art-and-craft-vendor-show-2/
LOCATION:Naftzger Park\, 601 East Douglas Avenue\, Wichita\, KS\, 67202\, United States
ATTACH;FMTTYPE=image/jpeg:https://www.communityvoiceks.com/wp-content/uploads/2026/04/1c0a1ba6a99349eb2d4fd8df317715b2.jpg
END:VEVENT
BEGIN:VEVENT
DTSTART;TZID=America/Chicago:20260418T080000
DTEND;TZID=America/Chicago:20260418T160000
DTSTAMP:20260422T055956
CREATED:20260318T184209Z
LAST-MODIFIED:20260318T184209Z
UID:10003393-1776499200-1776528000@www.communityvoiceks.com
SUMMARY:The Renewed Mind Conference 2026
DESCRIPTION:A Conference with four mental health professionals explore the intersection of mental health\, faith\, and Christianity.\n\n\nThe Renewed Mind Conference is a one-day gathering designed to explore the vital connection between mental health and the Christian faith. This impactful event will take place on Saturday\, April 18th\, from 8:00 a.m. to 4:00 p.m. at the Quindaro Community Center\, 2726 Brown Avenue\, Kansas City\, KS 66104. \nThroughout the day\, attendees will hear from four respected voices in mental health and ministry: Rev. Dr. Delois Brown-Daniels\, Rev. Dr. Regina Franklin\, Jonathan Shepherd\, MD\, and Dr. Corey Yeager. Each presenter will offer insight into how faith and mental wellness intersect\, addressing topics such as emotional health\, spiritual care\, and practical strategies for individuals\, families\, and faith communities. \nThe conference will also feature worship led by guest psalmists Regina and Paul Sims\, creating a space for reflection\, encouragement\, and spiritual renewal. \nThe Renewed Mind Conference aims to equip participants with knowledge\, resources\, and inspiration to better understand mental health through a faith-informed lens while fostering healing conversations within our communities. \nThis event is sponsored by the American Psychiatric Association Foundation\, Kansas Health Foundation\, and Pathway to Hope.
URL:https://www.communityvoiceks.com/event/the-renewed-mind-conference-2026/
LOCATION:Quindaro Community Center\, 2726 Brown Avenue\, Kansas City\, KS\, 66104\, United States
ATTACH;FMTTYPE=image/jpeg:https://www.communityvoiceks.com/wp-content/uploads/2026/03/7aba449b66efc0537d853133b19ebee1.jpg
END:VEVENT
BEGIN:VEVENT
DTSTART;TZID=America/Chicago:20260418T090000
DTEND;TZID=America/Chicago:20260418T110000
DTSTAMP:20260422T055956
CREATED:20260221T175547Z
LAST-MODIFIED:20260318T192441Z
UID:10003332-1776502800-1776510000@www.communityvoiceks.com
SUMMARY:Mentoring at Keystone CoLAB
DESCRIPTION:Operation Code KC weekly mentoring meeting
URL:https://www.communityvoiceks.com/event/mentoring-at-keystone-colab-5/
LOCATION:800 E 18th St\, 800 East 18th Street\, Kansas City\, MO\, 64108\, United States
ATTACH;FMTTYPE=image/jpeg:https://www.communityvoiceks.com/wp-content/uploads/2025/07/a87861d226112c48cc1e257b3528a374.jpg
END:VEVENT
BEGIN:VEVENT
DTSTART;TZID=America/Chicago:20260418T090000
DTEND;TZID=America/Chicago:20260418T113000
DTSTAMP:20260422T055956
CREATED:20260414T200628Z
LAST-MODIFIED:20260414T200630Z
UID:10003460-1776502800-1776511800@www.communityvoiceks.com
SUMMARY:Introduction to Buying Your First Home Workshop
DESCRIPTION:Ready to take the next step toward homeownership? Join us for an informative session designed to help first-time buyers navigate the process with confidence. \n\n\n\nClick on the link to register:  https://wkf.ms/3XBYqoN
URL:https://www.communityvoiceks.com/event/introduction-to-buying-your-first-home-workshop/
LOCATION:Urban League\, 2418 E 9th\, Wichita\, KS
END:VEVENT
BEGIN:VEVENT
DTSTART;TZID=America/Chicago:20260418T100000
DTEND;TZID=America/Chicago:20260418T150000
DTSTAMP:20260422T055956
CREATED:20260402T193037Z
LAST-MODIFIED:20260402T193040Z
UID:10003438-1776506400-1776524400@www.communityvoiceks.com
SUMMARY:BRIDGING THE NEIGHBORHOOD
DESCRIPTION:My mission has always been to give back to the community I was raised in. Also the participating vendors will be selling their products at a affordable price. My heart tells me to do my best to feed any homeless person that may come through during this event. IF I SEE SOMETHING I HAVE TO DO SOMETHING!!!! In this neighborhood where I grew up\, there are numerous homeless individuals. My goal is to feed the homeless on this day.
URL:https://www.communityvoiceks.com/event/bridging-the-neighborhood/
LOCATION:BRIDGE CHURCH
CATEGORIES:Charities & Causes,Children, Youth & Families
ATTACH;FMTTYPE=image/jpeg:https://www.communityvoiceks.com/wp-content/uploads/2026/04/bridging.jpg
END:VEVENT
BEGIN:VEVENT
DTSTART;TZID=America/Chicago:20260418T100000
DTEND;TZID=America/Chicago:20260418T160000
DTSTAMP:20260422T055956
CREATED:20260406T190656Z
LAST-MODIFIED:20260406T190656Z
UID:10003448-1776506400-1776528000@www.communityvoiceks.com
SUMMARY:Uzazi Village's Tour de Troost
DESCRIPTION:Join Uzazi Village’s Tour de Troost\, guided shuttle\, Black-owned businesses\, and a community black party celebrating Black maternal health.\n\n\nHosted by Uzazi Village in honor of Black Maternal Health Week\, Uzazi’s Tour de Troost is more than just an event—it’s an experience rooted in community\, connection\, and care. \nJoin us on April 18th for a guided shuttle tour along the historic Troost corridor\, where we’ll highlight and celebrate local Black-owned businesses while uplifting the importance of Black maternal health and wellness. \nParticipants will hop aboard our shuttle and travel together to a curated selection of black businesses on Troost. At each stop\, you’ll: \n\nMeet and support local entrepreneurs\nHear the stories behind their businesses\nEnjoy samples\, special offers\, or exclusive discounts\nLearn about vital maternal health resources and information from Uzazi Village staff\n\nThroughout the tour\, we’ll be sharing information about programs that directly support families in our community. These things include doula training\, prenatal and postpartum care\, diaper support\, healthcare appointments\, free food distribution\, and more. \nAfter the business crawl\, join us back at Uzazi for a community block party filled with: \n🎶 Music & live vibes \n🍴 BBQ food + vegan options \n🏥 Health screenings & community resources \n🎈 Bounce houses & family-friendly activities \n💛 Opportunities to connect\, learn\, and celebrate together \nWhether you’re coming to discover new businesses\, connect with resources\, or simply enjoy a day full of joy and community—this event is for YOU 💜 \nCome ride\, connect\, and celebrate with us as we uplift Black businesses and champion healthier futures for Black moms\, babies\, and families!
URL:https://www.communityvoiceks.com/event/uzazi-villages-tour-de-troost/
LOCATION:4232 Troost Ave\, 4232 Troost Avenue\, Kansas City\, MO\, 64110\, United States
ATTACH;FMTTYPE=image/jpeg:https://www.communityvoiceks.com/wp-content/uploads/2026/04/d45bf67f4a18f0da872df7f8b771e8fc.jpg
END:VEVENT
BEGIN:VEVENT
DTSTART;TZID=America/Chicago:20260418T100000
DTEND;TZID=America/Chicago:20260418T170000
DTSTAMP:20260422T055956
CREATED:20260303T210155Z
LAST-MODIFIED:20260303T210159Z
UID:10003367-1776506400-1776531600@www.communityvoiceks.com
SUMMARY:Civil War Reenactment
DESCRIPTION:Step back in time and experience the thunder and tension of a nation divided at Old Cowtown Museum during the Civil War Reenactment on April 18th and 19th. The streets and fields of Cowtown come alive as Union and Confederate soldiers drill\, march\, and clash in demonstrations. Hear the crack of musketry and roar of artillery in action. Between reenactments\, visitors can explore historically authentic camps\, speak with reenactors about life as a soldier or individual at a time of uncertainty in the nation. Visitors will learn about the Civil War in Kansas and the impact of the conflict on the state. \n\n\n\nThis immersive weekend offers engaging educational programming for families\, history enthusiasts\, and anyone curious about the Civil War and life in the 1860s. Join us at Old Cowtown and experience history around one of the most researched and discussed time periods as we commemorate the 250th anniversary of the United States as a nation. \n\n\n\nSpecial Event Admission Rates Apply. No advanced tickets needed\, admission can be paid at the Visitor Center upon arrival.• Adults: $15• Seniors: $13• Youth: $8• Members: $5• Kids 4 and under: Free
URL:https://www.communityvoiceks.com/event/civil-war-reenactment/2026-04-18/
LOCATION:Old Cowtown Museum\, 1865 Museum Blvd\, Wichita\, KS\, 67203\, us
ATTACH;FMTTYPE=image/jpeg:https://www.communityvoiceks.com/wp-content/uploads/2026/03/Civil-war.jpg
GEO:37.693302;-97.36002
X-APPLE-STRUCTURED-LOCATION;VALUE=URI;X-ADDRESS=Old Cowtown Museum 1865 Museum Blvd Wichita KS 67203 us;X-APPLE-RADIUS=500;X-TITLE=1865 Museum Blvd:geo:-97.36002,37.693302
END:VEVENT
BEGIN:VEVENT
DTSTART;TZID=America/Chicago:20260418T110000
DTEND;TZID=America/Chicago:20260418T140000
DTSTAMP:20260422T055956
CREATED:20260318T181149Z
LAST-MODIFIED:20260406T190524Z
UID:10003392-1776510000-1776520800@www.communityvoiceks.com
SUMMARY:Women Empowerment Brunch - 1st Ladies edition
DESCRIPTION:Join us for a fun\, inspiring brunch celebrating fierce ladies lifting each other up!\n\n\nJoin Us for the Women Empowerment Brunch – 1st Ladies Edition!\nHey ladies! Ready to connect\, inspire\, and empower each other? This in-person brunch is all about celebrating strong women and building an amazing community. Expect great conversations\, uplifting vibes\, and plenty of opportunities to meet incredible women just like you. Don’t miss out on this chance to recharge and shine together!
URL:https://www.communityvoiceks.com/event/women-empowerment-brunch-1st-ladies-edition/
LOCATION:The Luxe Event Space\, 200 North Liberty Street\, Independence\, MO\, 64050\, United States
ATTACH;FMTTYPE=image/jpeg:https://www.communityvoiceks.com/wp-content/uploads/2026/03/a4e9821e0432c91252797068a5a49265.jpg
END:VEVENT
BEGIN:VEVENT
DTSTART;TZID=America/Chicago:20260418T110000
DTEND;TZID=America/Chicago:20260418T150000
DTSTAMP:20260422T055956
CREATED:20260406T183641Z
LAST-MODIFIED:20260406T183641Z
UID:10003444-1776510000-1776524400@www.communityvoiceks.com
SUMMARY:Haven’s Brunch Club
DESCRIPTION:Good Food. Good Vibes. Good Company.\n\n\nEvent description \nJoin us for Haven’s Brunch Club\, our new monthly brunch experience created for guests who enjoy good food\, good vibes\, and good company. \nEnjoy an upbeat yet classy atmosphere in the heart of Old Town\, with curated sounds by DJ3\, one select brunch entrée\, and one mimosa included with your ticket. \nBrunch Club is designed for a grown\, polished crowd looking for a recurring Saturday experience built around great music\, elevated brunch\, and community. \n \nWhat’s included \n \n\nOne select entrée\nOne mimosa\nSounds by DJ3
URL:https://www.communityvoiceks.com/event/havens-brunch-club/
LOCATION:315 N Mead St\, 315 North Mead Street\, Wichita\, KS\, 67202\, United States
ATTACH;FMTTYPE=image/jpeg:https://www.communityvoiceks.com/wp-content/uploads/2026/04/1b3a314f8205b3672f6b1eba36c14e64.jpg
END:VEVENT
BEGIN:VEVENT
DTSTART;TZID=America/Chicago:20260418T130000
DTEND;TZID=America/Chicago:20260418T170000
DTSTAMP:20260422T055956
CREATED:20260409T211431Z
LAST-MODIFIED:20260409T211435Z
UID:10003459-1776517200-1776531600@www.communityvoiceks.com
SUMMARY:Plainview Community Event
DESCRIPTION:Community activities for all.  Family-Culture-Community \n\n\n\nFeaturing Boxing\, Live performance by ESSEX\, chess\, sports\, coloring.  DJ Meomane
URL:https://www.communityvoiceks.com/event/plainview-community-event/
CATEGORIES:Children, Youth & Families,Festivals & Fairs
ATTACH;FMTTYPE=image/png:https://www.communityvoiceks.com/wp-content/uploads/2026/04/PLANVIEW.png
END:VEVENT
BEGIN:VEVENT
DTSTART;TZID=America/Chicago:20260418T170000
DTEND;TZID=America/Chicago:20260418T220000
DTSTAMP:20260422T055956
CREATED:20260406T184709Z
LAST-MODIFIED:20260406T184709Z
UID:10003447-1776531600-1776549600@www.communityvoiceks.com
SUMMARY:Concierge presents...AO's EXCLUSIVE Red & White Affair
DESCRIPTION:signature Concierge event\, AO’s Exclusive Red & White Affair was developed to…honor the life of Ashton L. O’Guinn;\n\n\nA signature Concierge event\, AO’s Exclusive Red & White Affair was developed to… \n\nhonor the life of Ashton L. O’Guinn;\ncelebrate the precious gift of life; and\nplant seeds for the future by awarding scholarship dollars to deserving students.\n\nAO’s Exclusive Red & White Affair is a “party with a purpose” with…. \nGreat Flava \n\nAwesome Culinary Experience\nRed Carpet Vibe\nFIYA Fashion – Red & White Attire\n\nLive Entertainment \n\nR&B/Soul Performance\nThe HOTTEST DJ playing your favorite party playlist\n\nScholarship \n\nProceeds from this event will fund (3) $500 scholarship awards for worthy students\nCut & paste the link below into your web browser for the AO Scholarship Application Packet… https://docs.google.com/document/d/1xs4XUHvcLQX_DOYEYBINNPm6LoM-12NhYwzyzIyZynI/edit?usp=sharing\n\nWe hope that you will celebrate with us!
URL:https://www.communityvoiceks.com/event/concierge-presents-aos-exclusive-red-white-affair/
LOCATION:4518 Troost Ave\, 4518 Troost Avenue\, Kansas City\, MO\, 64110\, United States
ATTACH;FMTTYPE=image/jpeg:https://www.communityvoiceks.com/wp-content/uploads/2026/04/00237941a536c4a6af93786fe6ea92e2.jpg
END:VEVENT
BEGIN:VEVENT
DTSTART;TZID=America/Chicago:20260418T180000
DTEND;TZID=America/Chicago:20260418T220000
DTSTAMP:20260422T055956
CREATED:20260401T193653Z
LAST-MODIFIED:20260401T193657Z
UID:10003436-1776535200-1776549600@www.communityvoiceks.com
SUMMARY:UPROAR
DESCRIPTION:The 2nd Annual Unicorn UPROAR! invites you into a dreamscape where reality bends and imagination takes center stage. Inspired by the darling worlds of the Surrealists: Dali\, Magritte\, and others. This year’s party transforms the ordinary into the extraordinary. \nA night where clocks melt\, clouds drift indoors\, and everything is SO SURREAL. Immerse yourself in a world of art\, food\, and performance that bends reality and delights the senses. \nJoin our UPROAR! and help fuel Unicorn Theatre’s mission to produce bold\, boundary-breaking work that sparks dialogue and builds community.
URL:https://www.communityvoiceks.com/event/uproar/
LOCATION:Zhou B Art Center Kansas City\, 1801 East 18th Street\, Kansas City\, MO\, 64127\, United States
CATEGORIES:Charities & Causes
ATTACH;FMTTYPE=image/jpeg:https://www.communityvoiceks.com/wp-content/uploads/2026/03/UPROAR-postcard-image.jpg
END:VEVENT
BEGIN:VEVENT
DTSTART;TZID=America/Chicago:20260418T190000
DTEND;TZID=America/Chicago:20260419T010000
DTSTAMP:20260422T055956
CREATED:20260318T180421Z
LAST-MODIFIED:20260406T184914Z
UID:10003390-1776538800-1776560400@www.communityvoiceks.com
SUMMARY:9TH ANNUAL BLACK WITH A SPLASH OF COLOR
DESCRIPTION:BLACK THEME WITH THE STEP QUEENS A NIGHT OF DANCING AND BEAUTY. ADD A SPLASH OF COLOR TO YOUR BLACK IS OPTIONAL.
URL:https://www.communityvoiceks.com/event/9th-annual-black-with-a-splash-of-color/
LOCATION:Pete’s Place Restaurant & Lounge\, 12044 Blue Ridge Extension\, Grandview\, MO\, 64030\, United States
ATTACH;FMTTYPE=image/jpeg:https://www.communityvoiceks.com/wp-content/uploads/2026/03/5cb48ad2e6deaba886ec0e6a13d05f77.jpg
END:VEVENT
END:VCALENDAR