BEGIN:VCALENDAR
VERSION:2.0
PRODID:-//The Community Voice - ECPv6.15.20//NONSGML v1.0//EN
CALSCALE:GREGORIAN
METHOD:PUBLISH
X-WR-CALNAME:The Community Voice
X-ORIGINAL-URL:https://www.communityvoiceks.com
X-WR-CALDESC:Events for The Community Voice
REFRESH-INTERVAL;VALUE=DURATION:PT1H
X-Robots-Tag:noindex
X-PUBLISHED-TTL:PT1H
BEGIN:VTIMEZONE
TZID:America/Chicago
BEGIN:DAYLIGHT
TZOFFSETFROM:-0600
TZOFFSETTO:-0500
TZNAME:CDT
DTSTART:20250309T080000
END:DAYLIGHT
BEGIN:STANDARD
TZOFFSETFROM:-0500
TZOFFSETTO:-0600
TZNAME:CST
DTSTART:20251102T070000
END:STANDARD
BEGIN:DAYLIGHT
TZOFFSETFROM:-0600
TZOFFSETTO:-0500
TZNAME:CDT
DTSTART:20260308T080000
END:DAYLIGHT
BEGIN:STANDARD
TZOFFSETFROM:-0500
TZOFFSETTO:-0600
TZNAME:CST
DTSTART:20261101T070000
END:STANDARD
BEGIN:DAYLIGHT
TZOFFSETFROM:-0600
TZOFFSETTO:-0500
TZNAME:CDT
DTSTART:20270314T080000
END:DAYLIGHT
BEGIN:STANDARD
TZOFFSETFROM:-0500
TZOFFSETTO:-0600
TZNAME:CST
DTSTART:20271107T070000
END:STANDARD
END:VTIMEZONE
BEGIN:VEVENT
DTSTART;TZID=America/Chicago:20260412T080000
DTEND;TZID=America/Chicago:20260412T130000
DTSTAMP:20260419T070717
CREATED:20260318T180613Z
LAST-MODIFIED:20260318T180613Z
UID:10003391-1775980800-1775998800@www.communityvoiceks.com
SUMMARY:KC Wellness Conference
DESCRIPTION:Let’s learn to turn stress into strength. This is a one-day gathering dedicated to nurturing community well being!\n\n\nHosted by Dr. Auburn Ellis\, CEO of Studio 54oo \nSunday\, April 12th\, 2026 | Vine Street Studio | Kansas City\, MO \n⭐️ 2026 KC Wellness Conference ⭐️\nRegister and rotate through sessions for this half-day of amazing info! \n🩶Morning Wellness Session\n8:15 – 9:00 AM \nCommunity Yoga \nSponsored by @lululemon \nBegin the day with an energizing\, all-levels yoga practice designed to center the mind\, awaken the body\, and prepare participants for a day of learning and connection. \n📌Breakout Sessions \nSession Block One \n9:30 – 10:30 AM \nParticipants may choose from the following sessions: \n• Food Equity – Community strategies to improve access to healthy and affordable food. \n• Maternal Health on the East Side – Addressing disparities and strengthening maternal care in our communities. \n• Protecting Your Time – Tools for setting boundaries\, preventing burnout\, and preserving personal wellbeing. \n• Urban Oilers – Exploring essential oils and their role in urban wellness practices. \n• Daily Pelvic Floor and Spinal Health – Practical techniques to support posture\, mobility\, and core strength. \n• Municipality: A Civic Health & Safety Assessment – Understanding how civic systems influence public health. \n• Biological Dentistry – A holistic perspective on oral health and its connection to overall wellness. \n• Herbal Wellness Education – Foundations of plant-based healing and herbal remedies. \n📌Session Block Two \n10:45 – 11:45 AM \nParticipants may choose from the following sessions: \n• Trauma-Informed Weight Lifting – Strength training approaches that prioritize safety\, autonomy\, and healing. \n• Inner Sync with Singing Bowls – Experience the calming and restorative power of sound healing. \n• Finding Peace in Painting – Creative expression as a tool for mental and emotional wellness. \n• Inviting Micro-Bits of Wellness into Your Day – Small habits that create meaningful improvements in daily health. \n• Movement Matters: The Research Behind Dance and Mental Health – Exploring the science of movement and emotional wellbeing. \n• Nutrition\, Movement\, and Lifestyle Habits – Building sustainable health through balanced daily practices. \n \nStudio 54oo and Vine Street Studio invite practitioners\, educators\, creatives\, wellness leaders\, and community advocates to submit session proposals for the 2026 Vine Street Wellness Conference—a one-day gathering dedicated to restoring balance\, nurturing creativity\, and strengthening community well-being. \nWe invite you come to this community event. Stay for the entire conference\, or just choose a session that speaks to your personal or professional life! \nWant to present? ⬇️Call for Proposals \nThis year’s theme centers on the ways we care for ourselves\, our work\, and one another. We welcome proposals that educate\, inspire\, uplift\, and offer participants meaningful tools they can apply immediately in their personal and professional lives. Come prepared to present for 30+ minutes and respond to questions. \nConference Focus Areas\nWe are seeking proposals that align with one of the following three themes: \n1. Healing the Healer \nSessions that support those who care for others—therapists\, educators\, artists\, activists\, wellness practitioners\, and community leaders.Topics may include: \n\nPreventing burnout and compassion fatigue\nSomatic practices for grounding and restoration\nTrauma-informed self-care\nBoundary setting and ethical care\nCreating sustainable wellness routines for helpers and healers\n\n2. Day-to-Day Wellness \nWorkshops and talks offering practical\, accessible approaches to everyday well-being.Topics may include: \n\nStress management for busy professionals\nNutrition\, movement\, and lifestyle habits\nMental health tools for daily use\nFinancial wellness and life balance\nMindfulness\, meditation\, and breathwork\nFamily or workplace wellness strategies\n\n3. Art as Wellness \nExplorations of creativity as a path to healing\, reflection\, and community connection.Topics may include: \n\nExpressive arts therapy\nMusic\, dance\, or movement for emotional release\nVisual arts for mindfulness\nWriting and storytelling for personal growth\nCreative practices for stress reduction\nCommunity-based art for collective healing\n\nOnly ethically positive\, uplifting & inclusive proposals will be considered. \nProposal Types\nWe welcome a variety of formats\, including: \n\nWorkshops (interactive)\nTalks/Presentations (informational)\nCreative Sessions (movement\, artmaking\, sound)\nPanel Discussions (multiple speakers)\n\nProposal Requirements\nPlease include the following: \n\nSession Title\nFocus Area (Healing the Healer\, Day-to-Day Wellness\, or Art as Wellness)\nPresenter Name\, Bio (150 words)\, and Contact Information\nSession Format (workshop\, presentation\, creative session\, or panel)\nSession Description (150–250 words)\nLearning Outcomes (3–5 clear takeaways for participants)\nSpace/Materials Needed\nAny relevant links or previous work\nDo you need technology to present?\n\nSubmission Details\n\nSubmission Deadline: March 20\, 2026\nAcceptance Notifications: by March 27\, 2026\nSubmit Proposals To: auburn@auburnaesthetic.com\nConference Date: Sunday\, April 12\, 2026\nLocation: Vine Street Studio\, Kansas City\, MO | 2033 Vine Street\, KCMO\n\nAbout the Host \nDr. Auburn Ellis\, CEO of Studio 54oo\, is a visionary leader in wellness\, creativity\, and community-centered education. Her work uplifts underrepresented communities through accessible wellness training\, artistic expression\, and holistic development. This conference continues her commitment to creating spaces that heal\, inspire\, and empower.
URL:https://www.communityvoiceks.com/event/kc-wellness-conference/
LOCATION:Vine Street Studio KC\, 2033 Vine Street\, Kansas City\, MO\, 64108\, United States
ATTACH;FMTTYPE=image/jpeg:https://www.communityvoiceks.com/wp-content/uploads/2026/03/56d2f6deafd99412e9fcbaf72fdc2b89.jpg
END:VEVENT
BEGIN:VEVENT
DTSTART;TZID=America/Chicago:20260412T130000
DTEND;TZID=America/Chicago:20260412T170000
DTSTAMP:20260419T070717
CREATED:20260329T131837Z
LAST-MODIFIED:20260329T131840Z
UID:10003428-1775998800-1776013200@www.communityvoiceks.com
SUMMARY:Raise A Glass For Reading
DESCRIPTION:Raise a glass for reading in support of the Wichita Public Library’s 150th anniversary! Commemorative pours of cider featuring a special pint glass to take home are available for $15. \n\n\n\nPlus\, the Friends of the Wichita Public Library can set you up on a blind date with a book. Books available for purchase are wrapped up so you can put the classic saying — don’t judge a book by its cover — to the test. Blind date books are available for $5 or $20. \n\n\n\nThey say love is blind\, but does that apply to reading? Find out and make a toast to 150 years of your library with White Crow Cider Company and the Friends of the Wichita Public Library
URL:https://www.communityvoiceks.com/event/raise-a-glass-for-reading/
LOCATION:KS
CATEGORIES:Children, Youth & Families,Festivals & Fairs,movies & Speeches,Performance & Visual Arts
ATTACH;FMTTYPE=image/jpeg:https://www.communityvoiceks.com/wp-content/uploads/2026/03/raise.jpg
END:VEVENT
BEGIN:VEVENT
DTSTART;TZID=America/Chicago:20260412T140000
DTEND;TZID=America/Chicago:20260412T170000
DTSTAMP:20260419T070717
CREATED:20260327T221405Z
LAST-MODIFIED:20260327T221407Z
UID:10003426-1776002400-1776013200@www.communityvoiceks.com
SUMMARY:Let’s Talk Shop
DESCRIPTION:Join us for an afternoon with We Harmon Sisters! We’ll kick off the afternoon with a screening of their newest episode in the “Color Me Wichita” series\, followed by their newest documentary\, “Let’s Talk Shop\,” that premiered at last year’s Tallgrass Film Festival. \n\n\n\n“Let’s Talk Shop” Documentary & “Color Me Wichita” Episode Screening
URL:https://www.communityvoiceks.com/event/lets-talk-shop/
LOCATION:SEDGWICK COUNTY HISTORICAL MUSEUM\, 204 S MAIN\, WICHITA\, Kansas\, 67202
CATEGORIES:Children, Youth & Families,Festivals & Fairs,movies & Speeches,Performance & Visual Arts
ATTACH;FMTTYPE=image/jpeg:https://www.communityvoiceks.com/wp-content/uploads/2026/03/HARMON.jpg
END:VEVENT
END:VCALENDAR