BEGIN:VCALENDAR
VERSION:2.0
PRODID:-//The Community Voice - ECPv6.15.20//NONSGML v1.0//EN
CALSCALE:GREGORIAN
METHOD:PUBLISH
X-WR-CALNAME:The Community Voice
X-ORIGINAL-URL:https://www.communityvoiceks.com
X-WR-CALDESC:Events for The Community Voice
REFRESH-INTERVAL;VALUE=DURATION:PT1H
X-Robots-Tag:noindex
X-PUBLISHED-TTL:PT1H
BEGIN:VTIMEZONE
TZID:America/Chicago
BEGIN:DAYLIGHT
TZOFFSETFROM:-0600
TZOFFSETTO:-0500
TZNAME:CDT
DTSTART:20250309T080000
END:DAYLIGHT
BEGIN:STANDARD
TZOFFSETFROM:-0500
TZOFFSETTO:-0600
TZNAME:CST
DTSTART:20251102T070000
END:STANDARD
BEGIN:DAYLIGHT
TZOFFSETFROM:-0600
TZOFFSETTO:-0500
TZNAME:CDT
DTSTART:20260308T080000
END:DAYLIGHT
BEGIN:STANDARD
TZOFFSETFROM:-0500
TZOFFSETTO:-0600
TZNAME:CST
DTSTART:20261101T070000
END:STANDARD
BEGIN:DAYLIGHT
TZOFFSETFROM:-0600
TZOFFSETTO:-0500
TZNAME:CDT
DTSTART:20270314T080000
END:DAYLIGHT
BEGIN:STANDARD
TZOFFSETFROM:-0500
TZOFFSETTO:-0600
TZNAME:CST
DTSTART:20271107T070000
END:STANDARD
END:VTIMEZONE
BEGIN:VEVENT
DTSTART;TZID=America/Chicago:20260409T090000
DTEND;TZID=America/Chicago:20260409T110000
DTSTAMP:20260419T095320
CREATED:20260304T192021Z
LAST-MODIFIED:20260304T192021Z
UID:10003379-1775725200-1775732400@www.communityvoiceks.com
SUMMARY:8th District Senior Resource Fair
DESCRIPTION:Join us at the 8th District Senior Resource Fair for updates and information about services for seniors.\n\n\n8th District Senior Resource Fair \nCome join us for the 8th District Senior Resource Fair at the Eisenhower Recreation Center! This is your chance to voice your concerns\, ask questions\, and connect with others in the community. Learn more about various programs and services – including filing your senior tax rebate. See you there!
URL:https://www.communityvoiceks.com/event/8th-district-senior-resource-fair/
LOCATION:Eisenhower Recreation Center\, 2901 North 72nd Street\, Kansas City\, KS\, 66109\, United States
ATTACH;FMTTYPE=image/jpeg:https://www.communityvoiceks.com/wp-content/uploads/2026/03/8fbe81aabd70fcd82a42978b329863c8.jpg
END:VEVENT
BEGIN:VEVENT
DTSTART;TZID=America/Chicago:20260409T173000
DTEND;TZID=America/Chicago:20260409T190000
DTSTAMP:20260419T095320
CREATED:20260318T192211Z
LAST-MODIFIED:20260318T192211Z
UID:10003399-1775755800-1775761200@www.communityvoiceks.com
SUMMARY:Community Forum: Celia's Story
DESCRIPTION:The Celia Newsome Legacy Foundation connects Celia’s Story and her unfair trail in 1855 to modern social justice efforts.
URL:https://www.communityvoiceks.com/event/community-forum-celias-story/
LOCATION:Black Archives Of Mid-America\, 1722 East 17th Terrace\, Kansas City\, MO\, 64108\, United States
ATTACH;FMTTYPE=image/jpeg:https://www.communityvoiceks.com/wp-content/uploads/2026/03/27b4489b1963b8aa8e5cd231e53a1c6f.jpg
END:VEVENT
END:VCALENDAR